Workbook

Sheet Class Général Algemeen Klass.
A1: Classement Meilleures Buteur Dames au Rangschikking Beste Scorer Dames in 17-10-2026 | D1: Total M. J. Totaal G. W. | E1: Total Goals Totaal Goals
A7: 1 | B7: Sergeant, Karen | C7: MZV | D7: =MZV!AJ$10 -> 3 | E7: =MZV!AK$10 -> 16
A8: 2 | B8: Fossaert, Heleen | C8: ROSC | D8: =ROSC!AJ$9 -> 2 | E8: =ROSC!AK$9 -> 10
A9: 3 | B9: Mattelaer, Manon | C9: KWK | D9: =KWK!AJ$7 -> 2 | E9: =KWK!AK$7 -> 9
A10: 4 | B10: Nel, Sarah | C10: KWK | D10: =KWK!AJ$8 -> 3 | E10: =KWK!AK$8 -> 8
A11: 5 | B11: De Wispelaere, Linde | C11: MZV | D11: =MZV!AJ$5 -> 3 | E11: =MZV!AK$5 -> 7
A12: 6 | B12: Depreitere, Julie | C12: ROSC | D12: =ROSC!AJ$8 -> 2 | E12: =ROSC!AK$8 -> 7
A13: 7 | B13: De Tollenaere, Flore | C13: MZV | D13: =MZV!AJ$4 -> 3 | E13: =MZV!AK$4 -> 6
A14: 8 | B14: Van Royen, Torah | C14: KWK | D14: =KWK!AJ$11 -> 3 | E14: =KWK!AK$11 -> 6
A15: 9 | B15: Dams, Geike | C15: KAZSc | D15: =KAZSc!AJ$4 -> 1 | E15: =KAZSc!AK$4 -> 6
A16: 10 | B16: Hellebuyck, Merel | C16: MZV | D16: =MZV!AJ$8 -> 3 | E16: =MZV!AK$8 -> 5
A17: 11 | B17: Desmet, Lena | C17: KWK | D17: =KWK!AJ$5 -> 3 | E17: =KWK!AK$5 -> 5
A18: 12 | B18: Frantsuk, Emilia | C18: KAZSc | D18: =KAZSc!AJ$7 -> 1 | E18: =KAZSc!AK$7 -> 5
A19: 13 | B19: Vousdoukos, Alexia | C19: KGZV | D19: =KGZV!AJ15 -> 1 | E19: =KGZV!AK15 -> 5
A20: 14 | B20: Waelkens, Maily | C20: MZV | D20: =MZV!AJ$14 -> 3 | E20: =MZV!AK$14 -> 4
A21: 15 | B21: Van Daele, Elise | C21: MZV | D21: =MZV!AJ$11 -> 3 | E21: =MZV!AK$11 -> 4
A22: 16 | B22: Pannecoucke, Ella | C22: ROSC | D22: =ROSC!AJ$15 -> 2 | E22: =ROSC!AK$15 -> 4
A23: 17 | B23: Pannecoucke, Myrthe | C23: ROSC | D23: =ROSC!AJ$16 -> 2 | E23: =ROSC!AK$16 -> 4
A24: 18 | B24: De Caluwé, Sam | C24: KAZSc | D24: =KAZSc!AJ$5 -> 1 | E24: =KAZSc!AK$5 -> 4
A25: 19 | B25: Di Guglielmo, Gabriella | C25: KGZV | D25: =KGZV!AJ5 -> 1 | E25: =KGZV!AK5 -> 4
A26: 20 | B26: Vandaele, Laura | C26: KGZV | D26: =KGZV!AJ12 -> 1 | E26: =KGZV!AK12 -> 4
A27: 21 | B27: Windels, Laura | C27: MZV | D27: =MZV!AJ15 -> 3 | E27: =MZV!AK$15 -> 3
A28: 22 | B28: Depreitere, Hanne | C28: ROSC | D28: =ROSC!AJ$7 -> 2 | E28: =ROSC!AK$7 -> 3
A29: 23 | B29: GATTI, Léa | C29: CCM | D29: =CCM!AJ$7 -> 2 | E29: =CCM!AK$7 -> 3
A30: 24 | B30: Schoon, Margot | C30: ROSC | D30: =ROSC!AJ$17 -> 1 | E30: =ROSC!AK$17 -> 3
A31: 25 | B31: Grijp, Lena | C31: MZV | D31: =MZV!AJ$7 -> 3 | E31: =MZV!AK$7 -> 2
A32: 26 | B32: Carlu, Axelle | C32: KWK | D32: =KWK!AJ$3 -> 3 | E32: =KWK!AK$3 -> 2
A33: 27 | B33: CACI, Alessia | C33: CCM | D33: =CCM!AJ$4 -> 2 | E33: =CCM!AK$4 -> 2
A34: 28 | B34: MARECHAL, ELOISE | C34: ENLWP | D34: =CCM!AJ$13 -> 2 | E34: =CCM!AK$13 -> 2
A35: 29 | B35: Meyers, Claris | C35: ROSC | D35: =ROSC!AJ$13 -> 2 | E35: =ROSC!AK$13 -> 2
A36: 30 | B36: Delcloo, Hanne | C36: KAZSc | D36: =KAZSc!AJ$6 -> 1 | E36: =KAZSc!AK$6 -> 2
A37: 31 | B37: Verbeke, Julie | C37: KGZV | D37: =KGZV!AJ14 -> 1 | E37: =KGZV!AK14 -> 2
A38: 32 | B38: Christiaens, Marjolijn | C38: KWK | D38: =KWK!AJ$4 -> 3 | E38: =KWK!AK$4 -> 1
A39: 33 | B39: De Pauw, Emilia | C39: MZV | D39: =MZV!AJ$3 -> 2 | E39: =MZV!AK$3 -> 1
A40: 34 | B40: BAETENS, Leona | C40: CCM | D40: =CCM!AJ$3 -> 2 | E40: =CCM!AK$3 -> 1
A41: 35 | B41: Mylle, Martha | C41: ROSC | D41: =ROSC!AJ$14 -> 2 | E41: =ROSC!AK$14 -> 1
A42: 36 | B42: Heyrman, Corinne | C42: KAZSc | D42: =KAZSc!AJ$9 -> 1 | E42: =KAZSc!AK$9 -> 1
A43: 37 | B43: Lah, Yelena | C43: KAZSc | D43: =KAZSc!AJ$10 -> 1 | E43: =KAZSc!AK$10 -> 1
A44: 38 | B44: Van Hoey, Sterre | C44: KAZSc | D44: =KAZSc!AJ$15 -> 1 | E44: =KAZSc!AK$15 -> 1
A45: 39 | B45: De Wulf, Fleur | C45: KGZV | D45: =KGZV!AJ4 -> 1 | E45: =KGZV!AK4 -> 1
A46: 40 | B46: Laton, Janne | C46: KGZV | D46: =KGZV!AJ6 -> 1 | E46: =KGZV!AK6 -> 1
A47: 41 | B47: Thaets, Leonie | C47: KGZV | D47: =KGZV!AJ10 -> 1 | E47: =KGZV!AK10 -> 1
A48: 42 | B48: Vekemans, Rena | C48: KGZV | D48: =KGZV!AJ13 -> 1 | E48: =KGZV!AK13 -> 1
A49: 43 | B49: SARNO, Tara | C49: CCM | D49: =CCM!AJ$16 -> 1 | E49: =CCM!AK$16 -> 1
A50: 44 | B50: Colle, Evi | C50: ROSC | D50: =ROSC!AJ$5 -> 1 | E50: =ROSC!AK$5 -> 1
A51: 45 | B51: Stockman, Saar | C51: KWK | D51: =KWK!AJ$9 -> 3 | E51: =KWK!AK$9 -> 0
A52: 46 | B52: Stockman, Fien | C52: KWK | D52: =KWK!AJ$10 -> 3 | E52: =KWK!AK$10 -> 0
A53: 47 | B53: Vervaecke, Joke | C53: KWK | D53: =KWK!AJ$13 -> 3 | E53: =KWK!AK$13 -> 0
A54: 48 | B54: Devos, Elize | C54: KWK | D54: =KWK!AJ$6 -> 2 | E54: =KWK!AK$6 -> 0
A55: 49 | B55: Vandelanotte, Nele | C55: MZV | D55: =MZV!AJ$13 -> 2 | E55: =MZV!AK$13 -> 0
A56: 50 | B56: Van Hautte, Mette | C56: MZV | D56: =MZV!AJ$12 -> 2 | E56: =MZV!AK$12 -> 0
A57: 51 | B57: DELAERE, MYRTHE | C57: ROSC | D57: =ROSC!AJ$6 -> 2 | E57: =ROSC!AK$6 -> 0
A58: 52 | B58: Gunst, Dagmar | C58: ZNA | D58: =ROSC!AJ$10 -> 2 | E58: =ROSC!AK$10 -> 0
A59: 53 | B59: Masschaele, Annelien | C59: ROSC | D59: =ROSC!AJ$12 -> 2 | E59: =ROSC!AK$12 -> 0
A60: 54 | B60: Cornez, Rapha‘lle | C60: CCM | D60: =CCM!AJ$5 -> 2 | E60: =CCM!AK$5 -> 0
A61: 55 | B61: Konarski, Carline | C61: CCM | D61: =CCM!AJ$8 -> 2 | E61: =CCM!AK$8 -> 0
A62: 56 | B62: Kunzi, Lucie | C62: CCM | D62: =CCM!AJ$9 -> 2 | E62: =CCM!AK$9 -> 0
A63: 57 | B63: LEROY, Callista | C63: CCM | D63: =CCM!AJ$12 -> 2 | E63: =CCM!AK$12 -> 0
A64: 58 | B64: Cloetens, Maud | C64: KAZSc | D64: =KAZSc!AJ$3 -> 1 | E64: =KAZSc!AK$3 -> 0
A65: 59 | B65: Scheerlinck, Merel | C65: KAZSc | D65: =KAZSc!AJ$12 -> 1 | E65: =KAZSc!AK$12 -> 0
A66: 60 | B66: Shelest, Marie | C66: KAZSc | D66: =KAZSc!AJ$13 -> 1 | E66: =KAZSc!AK$13 -> 0
A67: 61 | B67: van Lieshout, Iris | C67: KAZSc | D67: =KAZSc!AJ$16 -> 1 | E67: =KAZSc!AK$16 -> 0
A68: 62 | B68: Van Sprundel, Katrien | C68: KAZSc | D68: =KAZSc!AJ$18 -> 1 | E68: =KAZSc!AK$18 -> 0
A69: 63 | B69: Aelvoet, Lotte | C69: ROSC | D69: =ROSC!AJ$3 -> 1 | E69: =ROSC!AK$3 -> 0
A70: 64 | B70: Van Laer - Wallijn, Amber | C70: ROSC | D70: =ROSC!AJ$18 -> 1 | E70: =ROSC!AK$18 -> 0
A71: 65 | B71: Wallijn, Merlijne | C71: ROSC | D71: =ROSC!AJ$19 -> 1 | E71: =ROSC!AK$19 -> 0
A72: 66 | B72: Baudonck, Leen | C72: KGZV | D72: =KGZV!AJ3 -> 1 | E72: =KGZV!AK3 -> 0
A73: 67 | B73: Laton, Nona | C73: KGZV | D73: =KGZV!AJ7 -> 1 | E73: =KGZV!AK7 -> 0
A74: 68 | B74: Matias Gomes, Julia | C74: KGZV | D74: =KGZV!AJ8 -> 1 | E74: =KGZV!AK8 -> 0
A75: 69 | B75: Matias Gomes, Maud | C75: KGZV | D75: =KGZV!AJ9 -> 1 | E75: =KGZV!AK9 -> 0
A76: 70 | B76: Van Gheluwe, Janne | C76: KGZV | D76: =KGZV!AJ11 -> 1 | E76: =KGZV!AK11 -> 0
A77: 71 | B77: Wyckhuyze, Lisa | C77: KGZV | D77: =KGZV!AJ16 -> 1 | E77: =KGZV!AK16 -> 0
A78: 72 | B78: Fiers, Lien | C78: MZV | D78: =MZV!AJ$6 -> 1 | E78: =MZV!AK$6 -> 0
A79: 73 | B79: Verriest, Sofie | C79: KWK | D79: =KWK!AJ$12 -> 1 | E79: =KWK!AK$12 -> 0
A80: 74 | B80: DERUMIER, Michèle | C80: CCM | D80: =CCM!AJ$6 -> 1 | E80: =CCM!AK$6 -> 0
A81: 75 | B81: PERCEVAL, Lea | C81: CCM | D81: =CCM!AJ$15 -> 1 | E81: =CCM!AK$15 -> 0
A82: 76 | B82: VAN DEN NOORTGATE, Gael | C82: CCM | D82: =CCM!AJ$17 -> 1 | E82: =CCM!AK$17 -> 0
A83: 77 | B83: Frattaruolo Duka, Laura | C83: KAZSc | D83: =KAZSc!AJ8 -> 0 | E83: =KAZSc!AK$8 -> 0
A84: 78 | B84: Pauwels, Mayenne | C84: KAZSc | D84: =KAZSc!AJ$11 -> 0 | E84: =KAZSc!AK$11 -> 0
A85: 79 | B85: Van De Poel, Katleen | C85: KAZSc | D85: =KAZSc!AJ$14 -> 0 | E85: =KAZSc!AK$14 -> 0
A86: 80 | B86: Van Petegem, Sammy | C86: KAZSc | D86: =KAZSc!AJ$17 -> 0 | E86: =KAZSc!AK$17 -> 0
A87: 81 | B87: Nobels, Valerie | C87: MZV | D87: =MZV!AJ$9 -> 0 | E87: =MZV!AK$9 -> 0
A88: 82 | B88: Apers, Victoire | C88: LAQUA | D88: =LAQUA!AJ$3 -> 0 | E88: =LAQUA!AK$3 -> 0
A89: 83 | B89: Aranyi, Réka | C89: LAQUA | D89: =LAQUA!AJ$4 -> 0 | E89: =LAQUA!AK$4 -> 0
A90: 84 | B90: Cauwenberg, Lotte | C90: LAQUA | D90: =LAQUA!AJ$5 -> 0 | E90: =LAQUA!AK$5 -> 0
A91: 85 | B91: Claes, Lien | C91: LAQUA | D91: =LAQUA!AJ$6 -> 0 | E91: =LAQUA!AK$6 -> 0
A92: 86 | B92: Claes, Irene | C92: LAQUA | D92: =LAQUA!AJ$7 -> 0 | E92: =LAQUA!AK$7 -> 0
A93: 87 | B93: Delaere, Leene | C93: LAQUA | D93: =LAQUA!AJ$8 -> 0 | E93: =LAQUA!AK$8 -> 0
A94: 88 | B94: Delport, Lotte | C94: LAQUA | D94: =LAQUA!AJ$9 -> 0 | E94: =LAQUA!AK$9 -> 0
A95: 89 | B95: Delport, Hanne | C95: LAQUA | D95: =LAQUA!AJ$10 -> 0 | E95: =LAQUA!AK$10 -> 0
A96: 90 | B96: Dierckx, Emma | C96: LAQUA | D96: =LAQUA!AJ$11 -> 0 | E96: =LAQUA!AK$11 -> 0
A97: 91 | B97: Gillard, Elena | C97: LAQUA | D97: =LAQUA!AJ$12 -> 0 | E97: =LAQUA!AK$12 -> 0
A98: 92 | B98: Goyens, Malou | C98: LAQUA | D98: =LAQUA!AJ$13 -> 0 | E98: =LAQUA!AK$13 -> 0
A99: 93 | B99: Haegemans, Fin | C99: LAQUA | D99: =LAQUA!AJ$14 -> 0 | E99: =LAQUA!AK$14 -> 0
A100: 94 | B100: Luts, Hannah | C100: LAQUA | D100: =LAQUA!AJ$15 -> 0 | E100: =LAQUA!AK$15 -> 0
A101: 95 | B101: Marivoet, Sofie | C101: LAQUA | D101: =LAQUA!AJ$16 -> 0 | E101: =LAQUA!AK$16 -> 0
A102: 96 | B102: Sterck, Julia | C102: LAQUA | D102: =LAQUA!AJ$17 -> 0 | E102: =LAQUA!AK$17 -> 0
A103: 97 | B103: Tijskens, Marie | C103: LAQUA | D103: =LAQUA!AJ$18 -> 0 | E103: =LAQUA!AK$18 -> 0
A104: 98 | B104: Van Gorp, Lies | C104: LAQUA | D104: =LAQUA!AJ$19 -> 0 | E104: =LAQUA!AK$19 -> 0
A105: 99 | B105: Vankeerberghen, Tessa | C105: LAQUA | D105: =LAQUA!AJ$20 -> 0 | E105: =LAQUA!AK$20 -> 0
...

Sheet Class par Klass per Clubs
B1: K Antwerpen ZSc | D1: Totaal W | E1: Total G | H1: MZV Eeklo | J1: Totaal W | K1: Total G | N1: K Gentse ZV | P1: Totaal W | Q1: Total G | T1: Kortrijk WK | V1: Totaal W | W1: Total G | Z1: Leuven Aqua | AB1: Totaal W | AC1: Total G | AF1: CC Mons | AH1: Total M | AI1: Total G | AL1: R Oostend SC | AN1: Totaal W | AO1: Total G
A7: 1 | B7: Dams, Geike | C7: KAZSc | D7: =KAZSc!AJ$4 -> 1 | E7: =KAZSc!AK4 -> 6 | G7: 1 | H7: Sergeant, Karen | I7: MZV | J7: =MZV!AJ$10 -> 3 | K7: =MZV!AK$10 -> 16 | M7: 1 | N7: Vousdoukos, Alexia | O7: KGZV | P7: =KGZV!AJ$15 -> 1 | Q7: =KGZV!AK$15 -> 5 | S7: 1 | T7: Mattelaer, Manon | U7: KWK | V7: =KWK!AJ$7 -> 2 | W7: =KWK!AK$7 -> 9 | Y7: 1 | Z7: Apers, Victoire | AA7: LAQUA | AB7: =LAQUA!AJ$3 -> 0 | AC7: =LAQUA!AK$3 -> 0 | AE7: 1 | AF7: GATTI, Léa | AG7: CCM | AH7: =CCM!AJ$7 -> 2 | AI7: =CCM!AK$7 -> 3 | AK7: 1 | AL7: Fossaert, Heleen | AM7: ROSC | AN7: =ROSC!AJ$9 -> 2 | AO7: =ROSC!AK$9 -> 10
A8: 2 | B8: Frantsuk, Emilia | C8: KAZSc | D8: =KAZSc!AJ$7 -> 1 | E8: =KAZSc!AK$7 -> 5 | G8: 2 | H8: De Wispelaere, Linde | I8: MZV | J8: =MZV!AJ$5 -> 3 | K8: =MZV!AK$5 -> 7 | M8: 2 | N8: Di Guglielmo, Gabriella | O8: KGZV | P8: =KGZV!AJ$5 -> 1 | Q8: =KGZV!AK$5 -> 4 | S8: 2 | T8: Nel, Sarah | U8: KWK | V8: =KWK!AJ$8 -> 3 | W8: =KWK!AK$8 -> 8 | Y8: 2 | Z8: Aranyi, Réka | AA8: LAQUA | AB8: =LAQUA!AJ$4 -> 0 | AC8: =LAQUA!AK$4 -> 0 | AE8: 2 | AF8: CACI, Alessia | AG8: CCM | AH8: =CCM!AJ$4 -> 2 | AI8: =CCM!AK$4 -> 2 | AK8: 2 | AL8: Depreitere, Julie | AM8: ROSC | AN8: =ROSC!AJ$8 -> 2 | AO8: =ROSC!AK$8 -> 7
A9: 3 | B9: De Caluwé, Sam | C9: KAZSc | D9: =KAZSc!AJ$5 -> 1 | E9: =KAZSc!AK$5 -> 4 | G9: 3 | H9: De Tollenaere, Flore | I9: MZV | J9: =MZV!AJ$4 -> 3 | K9: =MZV!AK$4 -> 6 | M9: 3 | N9: Vandaele, Laura | O9: KGZV | P9: =KGZV!AJ$12 -> 1 | Q9: =KGZV!AK$12 -> 4 | S9: 3 | T9: Van Royen, Torah | U9: KWK | V9: =KWK!AJ$11 -> 3 | W9: =KWK!AK$11 -> 6 | Y9: 3 | Z9: Cauwenberg, Lotte | AA9: LAQUA | AB9: =LAQUA!AJ$5 -> 0 | AC9: =LAQUA!AK$5 -> 0 | AE9: 3 | AF9: MARECHAL, ELOISE | AG9: ENLWP | AH9: =CCM!AJ$13 -> 2 | AI9: =CCM!AK$13 -> 2 | AK9: 3 | AL9: Pannecoucke, Ella | AM9: ROSC | AN9: =ROSC!AJ$15 -> 2 | AO9: =ROSC!AK$15 -> 4
A10: 4 | B10: Delcloo, Hanne | C10: KAZSc | D10: =KAZSc!AJ$6 -> 1 | E10: =KAZSc!AK$6 -> 2 | G10: 4 | H10: Hellebuyck, Merel | I10: MZV | J10: =MZV!AJ$8 -> 3 | K10: =MZV!AK$8 -> 5 | M10: 4 | N10: Verbeke, Julie | O10: KGZV | P10: =KGZV!AJ$14 -> 1 | Q10: =KGZV!AK$14 -> 2 | S10: 4 | T10: Desmet, Lena | U10: KWK | V10: =KWK!AJ$5 -> 3 | W10: =KWK!AK$5 -> 5 | Y10: 4 | Z10: Claes, Lien | AA10: LAQUA | AB10: =LAQUA!AJ$6 -> 0 | AC10: =LAQUA!AK$6 -> 0 | AE10: 4 | AF10: BAETENS, Leona | AG10: CCM | AH10: =CCM!AJ$3 -> 2 | AI10: =CCM!AK$3 -> 1 | AK10: 4 | AL10: Pannecoucke, Myrthe | AM10: ROSC | AN10: =ROSC!AJ$16 -> 2 | AO10: =ROSC!AK$16 -> 4
A11: 5 | B11: Heyrman, Corinne | C11: KAZSc | D11: =KAZSc!AJ$9 -> 1 | E11: =KAZSc!AK$9 -> 1 | G11: 5 | H11: Waelkens, Maily | I11: MZV | J11: =MZV!AJ$14 -> 3 | K11: =MZV!AK$14 -> 4 | M11: 5 | N11: De Wulf, Fleur | O11: KGZV | P11: =KGZV!AJ$4 -> 1 | Q11: =KGZV!AK$4 -> 1 | S11: 5 | T11: Carlu, Axelle | U11: KWK | V11: =KWK!AJ$3 -> 3 | W11: =KWK!AK$3 -> 2 | Y11: 5 | Z11: Claes, Irene | AA11: LAQUA | AB11: =LAQUA!AJ$7 -> 0 | AC11: =LAQUA!AK$7 -> 0 | AE11: 5 | AF11: SARNO, Tara | AG11: CCM | AH11: =CCM!AJ$16 -> 1 | AI11: =CCM!AK$16 -> 1 | AK11: 5 | AL11: Depreitere, Hanne | AM11: ROSC | AN11: =ROSC!AJ$7 -> 2 | AO11: =ROSC!AK$7 -> 3
A12: 6 | B12: Lah, Yelena | C12: KAZSc | D12: =KAZSc!AJ$10 -> 1 | E12: =KAZSc!AK$10 -> 1 | G12: 6 | H12: Van Daele, Elise | I12: MZV | J12: =MZV!AJ$11 -> 3 | K12: =MZV!AK$11 -> 4 | M12: 6 | N12: Laton, Janne | O12: KGZV | P12: =KGZV!AJ$6 -> 1 | Q12: =KGZV!AK$6 -> 1 | S12: 6 | T12: Vanden Driessche, Febe | U12: KWK | V12: =KWK!AJ$14 -> 2 | W12: =KWK!AK$14 -> 2 | Y12: 6 | Z12: Delaere, Leene | AA12: LAQUA | AB12: =LAQUA!AJ$8 -> 0 | AC12: =LAQUA!AK$8 -> 0 | AE12: 6 | AF12: Cornez, Rapha‘lle | AG12: CCM | AH12: =CCM!AJ$5 -> 2 | AI12: =CCM!AK$5 -> 0 | AK12: 6 | AL12: Schoon, Margot | AM12: ROSC | AN12: =ROSC!AJ17 -> 1 | AO12: =ROSC!AK$17 -> 3
A13: 7 | B13: Van Hoey, Sterre | C13: KAZSc | D13: =KAZSc!AJ$15 -> 1 | E13: =KAZSc!AK$15 -> 1 | G13: 7 | H13: Windels, Laura | I13: MZV | J13: =MZV!AJ$15 -> 3 | K13: =MZV!AK$15 -> 3 | M13: 7 | N13: Thaets, Leonie | O13: KGZV | P13: =KGZV!AJ$10 -> 1 | Q13: =KGZV!AK$10 -> 1 | S13: 7 | T13: Christiaens, Marjolijn | U13: KWK | V13: =KWK!AJ$4 -> 3 | W13: =KWK!AK$4 -> 1 | Y13: 7 | Z13: Delport, Lotte | AA13: LAQUA | AB13: =LAQUA!AJ$9 -> 0 | AC13: =LAQUA!AK$9 -> 0 | AE13: 7 | AF13: Konarski, Carline | AG13: CCM | AH13: =CCM!AJ$8 -> 2 | AI13: =CCM!AK$8 -> 0 | AK13: 7 | AL13: Meyers, Claris | AM13: ROSC | AN13: =ROSC!AJ$13 -> 2 | AO13: =ROSC!AK$13 -> 2
A14: 8 | B14: Cloetens, Maud | C14: KAZSc | D14: =KAZSc!AJ$3 -> 1 | E14: =KAZSc!AK3 -> 0 | G14: 8 | H14: Grijp, Lena | I14: MZV | J14: =MZV!AJ$7 -> 3 | K14: =MZV!AK$7 -> 2 | M14: 8 | N14: Vekemans, Rena | O14: KGZV | P14: =KGZV!AJ$13 -> 1 | Q14: =KGZV!AK$13 -> 1 | S14: 8 | T14: Stockman, Saar | U14: KWK | V14: =KWK!AJ$9 -> 3 | W14: =KWK!AK$9 -> 0 | Y14: 8 | Z14: Delport, Hanne | AA14: LAQUA | AB14: =LAQUA!AJ$10 -> 0 | AC14: =LAQUA!AK$10 -> 0 | AE14: 8 | AF14: Kunzi, Lucie | AG14: CCM | AH14: =CCM!AJ$9 -> 2 | AI14: =CCM!AK$9 -> 0 | AK14: 8 | AL14: Mylle, Martha | AM14: ROSC | AN14: =ROSC!AJ$14 -> 2 | AO14: =ROSC!AK$14 -> 1
A15: 9 | B15: Scheerlinck, Merel | C15: KAZSc | D15: =KAZSc!AJ$12 -> 1 | E15: =KAZSc!AK$12 -> 0 | G15: 9 | H15: De Pauw, Emilia | I15: MZV | J15: =MZV!AJ$3 -> 2 | K15: =MZV!AK$3 -> 1 | M15: 9 | N15: Baudonck, Leen | O15: KGZV | P15: =KGZV!AJ$3 -> 1 | Q15: =KGZV!AK$3 -> 0 | S15: 9 | T15: Stockman, Fien | U15: KWK | V15: =KWK!AJ$10 -> 3 | W15: =KWK!AK$10 -> 0 | Y15: 9 | Z15: Dierckx, Emma | AA15: LAQUA | AB15: =LAQUA!AJ$11 -> 0 | AC15: =LAQUA!AK$11 -> 0 | AE15: 9 | AF15: LEROY, Callista | AG15: CCM | AH15: =CCM!AJ$12 -> 2 | AI15: =CCM!AK$12 -> 0 | AK15: 9 | AL15: Colle, Evi | AM15: ROSC | AN15: =ROSC!AJ$5 -> 1 | AO15: =ROSC!AK$5 -> 1
A16: 10 | B16: Shelest, Marie | C16: KAZSc | D16: =KAZSc!AJ$13 -> 1 | E16: =KAZSc!AK$13 -> 0 | G16: 10 | H16: Vandelanotte, Nele | I16: MZV | J16: =MZV!AJ$13 -> 2 | K16: =MZV!AK$13 -> 0 | M16: 10 | N16: Laton, Nona | O16: KGZV | P16: =KGZV!AJ$7 -> 1 | Q16: =KGZV!AK$7 -> 0 | S16: 10 | T16: Vervaecke, Joke | U16: KWK | V16: =KWK!AJ$13 -> 3 | W16: =KWK!AK$13 -> 0 | Y16: 10 | Z16: Gillard, Elena | AA16: LAQUA | AB16: =LAQUA!AJ$12 -> 0 | AC16: =LAQUA!AK$12 -> 0 | AE16: 10 | AF16: DERUMIER, Michèle | AG16: CCM | AH16: =CCM!AJ$6 -> 1 | AI16: =CCM!AK$6 -> 0 | AK16: 10 | AL16: DELAERE, MYRTHE | AM16: ROSC | AN16: =ROSC!AJ$6 -> 2 | AO16: =ROSC!AK$6 -> 0
A17: 11 | B17: van Lieshout, Iris | C17: KAZSc | D17: =KAZSc!AJ$16 -> 1 | E17: =KAZSc!AK$16 -> 0 | G17: 11 | H17: Van Hautte, Mette | I17: MZV | J17: =MZV!AJ$12 -> 2 | K17: =MZV!AK$12 -> 0 | M17: 11 | N17: Matias Gomes, Julia | O17: KGZV | P17: =KGZV!AJ$8 -> 1 | Q17: =KGZV!AK$8 -> 0 | S17: 11 | T17: Devos, Elize | U17: KWK | V17: =KWK!AJ$6 -> 2 | W17: =KWK!AK$6 -> 0 | Y17: 11 | Z17: Goyens, Malou | AA17: LAQUA | AB17: =LAQUA!AJ$13 -> 0 | AC17: =LAQUA!AK$13 -> 0 | AE17: 11 | AF17: PERCEVAL, Lea | AG17: CCM | AH17: =CCM!AJ$15 -> 1 | AI17: =CCM!AK$15 -> 0 | AK17: 11 | AL17: Gunst, Dagmar | AM17: ZNA | AN17: =ROSC!AJ$10 -> 2 | AO17: =ROSC!AK$10 -> 0
A18: 12 | B18: Van Sprundel, Katrien | C18: KAZSc | D18: =KAZSc!AJ$18 -> 1 | E18: =KAZSc!AK$18 -> 0 | G18: 12 | H18: Fiers, Lien | I18: MZV | J18: =MZV!AJ$6 -> 1 | K18: =MZV!AK$6 -> 0 | M18: 12 | N18: Matias Gomes, Maud | O18: KGZV | P18: =KGZV!AJ$9 -> 1 | Q18: =KGZV!AK$9 -> 0 | S18: 12 | T18: Verriest, Sofie | U18: KWK | V18: =KWK!AJ$12 -> 1 | W18: =KWK!AK$12 -> 0 | Y18: 12 | Z18: Haegemans, Fin | AA18: LAQUA | AB18: =LAQUA!AJ$14 -> 0 | AC18: =LAQUA!AK$14 -> 0 | AE18: 12 | AF18: VAN DEN NOORTGATE, Gael | AG18: CCM | AH18: =CCM!AJ$17 -> 1 | AI18: =CCM!AK$17 -> 0 | AK18: 12 | AL18: Masschaele, Annelien | AM18: ROSC | AN18: =ROSC!AJ$12 -> 2 | AO18: =ROSC!AK$12 -> 0
A19: 13 | B19: Frattaruolo Duka, Laura | C19: KAZSc | D19: =KAZSc!AJ$8 -> 0 | E19: =KAZSc!AK$8 -> 0 | G19: 13 | H19: Nobels, Valerie | I19: MZV | J19: =MZV!AJ$9 -> 0 | K19: =MZV!AK$9 -> 0 | M19: 13 | N19: Van Gheluwe, Janne | O19: KGZV | P19: =KGZV!AJ$11 -> 1 | Q19: =KGZV!AK$11 -> 0 | S19: 13 | Y19: 13 | Z19: Luts, Hannah | AA19: LAQUA | AB19: =LAQUA!AJ$15 -> 0 | AC19: =LAQUA!AK$15 -> 0 | AE19: 13 | AF19: LECHIEN, Ambre | AG19: CCM | AH19: =CCM!AJ$10 -> 0 | AI19: =CCM!AK$10 -> 0 | AK19: 13 | AL19: Aelvoet, Lotte | AM19: ROSC | AN19: =ROSC!AJ$3 -> 1 | AO19: =ROSC!AK$3 -> 0
A20: 14 | B20: Pauwels, Mayenne | C20: KAZSc | D20: =KAZSc!AJ$11 -> 0 | E20: =KAZSc!AK$11 -> 0 | G20: 14 | M20: 14 | N20: Wyckhuyze, Lisa | O20: KGZV | P20: =KGZV!AJ$16 -> 1 | Q20: =KGZV!AK$16 -> 0 | S20: 14 | Y20: 14 | Z20: Marivoet, Sofie | AA20: LAQUA | AB20: =LAQUA!AJ$16 -> 0 | AC20: =LAQUA!AK$16 -> 0 | AE20: 14 | AF20: LECLERCQ, Eva | AG20: CCM | AH20: =CCM!AJ$11 -> 0 | AI20: =CCM!AK$11 -> 0 | AK20: 14 | AL20: Van Laer - Wallijn, Amber | AM20: ROSC | AN20: =ROSC!AJ18 -> 1 | AO20: =ROSC!AK$18 -> 0
A21: 15 | B21: Van De Poel, Katleen | C21: KAZSc | D21: =KAZSc!AJ$14 -> 0 | E21: =KAZSc!AK$14 -> 0 | G21: 15 | M21: 15 | S21: 15 | Y21: 15 | Z21: Sterck, Julia | AA21: LAQUA | AB21: =LAQUA!AJ$17 -> 0 | AC21: =LAQUA!AK$17 -> 0 | AE21: 15 | AF21: MASUY, Louise | AG21: CCM | AH21: =CCM!AJ$14 -> 0 | AI21: =CCM!AK$14 -> 0 | AK21: 15 | AL21: Wallijn, Merlijne | AM21: ROSC | AN21: =ROSC!AJ$19 -> 1 | AO21: =ROSC!AK$19 -> 0
A22: 16 | B22: Van Petegem, Sammy | C22: KAZSc | D22: =KAZSc!AJ$17 -> 0 | E22: =KAZSc!AK$17 -> 0 | G22: 16 | M22: 16 | S22: 16 | Y22: 16 | Z22: Tijskens, Marie | AA22: LAQUA | AB22: =LAQUA!AJ$18 -> 0 | AC22: =LAQUA!AK$18 -> 0 | AE22: 16 | AK22: 16 | AL22: Campe, Zea | AM22: ROSC | AN22: =ROSC!AJ$4 -> 0 | AO22: =ROSC!AK$4 -> 0
A23: 17 | M23: 17 | S23: 17 | Y23: 17 | Z23: Van Gorp, Lies | AA23: LAQUA | AB23: =LAQUA!AJ$19 -> 0 | AC23: =LAQUA!AK$19 -> 0 | AE23: 17 | AK23: 17 | AL23: Mahieu, Charlotte | AM23: ROSC | AN23: =ROSC!AJ$11 -> 0 | AO23: =ROSC!AK$11 -> 0
A24: 18 | M24: 18 | S24: 18 | Y24: 18 | Z24: Vankeerberghen, Tessa | AA24: LAQUA | AB24: =LAQUA!AJ$20 -> 0 | AC24: =LAQUA!AK$20 -> 0
S25: 19 | Y25: 19
Y26: 20

Sheet KAZSc
A1: K Antwerpen ZSc | F1: 462 - 19-09-2026 | H1: 463 - 26-09-2026 | J1: 470 - 17-10-2026 | L1: 473 - 07-11-2026 | N1: 474 - 14-11-2026 | P1: 478 - 22-11-2026 | R1: 480 - 06-12-2026 | T1: 484 - 10-01-2027 | V1: 487 - 17-01-2027 | X1: 492 - 14-02-2027 | Z1: 496 - 06-03-2027 | AB1: 499 - 13-03-2027 | AD1: PO 1 | AF1: PO 2 | AH1: PO 2 | AJ1: Totaal W | AK1: Total G
F2: W | G2: G | H2: W | I2: G | J2: W | K2: G | L2: W | M2: G | N2: W | O2: G | P2: W | Q2: G | R2: W | S2: G | T2: W | U2: G | V2: W | W2: G | X2: W | Y2: G | Z2: W | AA2: G | AB2: W | AC2: G | AD2: W | AE2: G | AF2: W | AG2: G | AH2: W | AI2: G
B3: AZSC/21285/08 | D3: Cloetens, Maud | H3: 5 | AJ3: =COUNTA(F3,H3,J3,L3,N3,P3,R3,T3,V3,X3,Z3,AB3,AD3,AF3,AH3) -> 1 | AK3: =SUM(G3,I3,K3,M3,O3,Q3,S3,U3,W3,Y3,AA3,AC3) -> 0
B4: AZSC/21258/09 | D4: Dams, Geike | H4: 9 | I4: 6 | AJ4: =COUNTA(F4,H4,J4,L4,N4,P4,R4,T4,V4,X4,Z4,AB4,AD4,AF4,AH4) -> 1 | AK4: =SUM(G4,I4,K4,M4,O4,Q4,S4,U4,W4,Y4,AA4,AC4,AE4,AG4,AI4) -> 6
B5: AZSC/21539/03 | D5: De Caluwé, Sam | H5: 2 | I5: 4 | AJ5: =COUNTA(F5,H5,J5,L5,N5,P5,R5,T5,V5,X5,Z5,AB5,AD5,AF5,AH5) -> 1 | AK5: =SUM(G5,I5,K5,M5,O5,Q5,S5,U5,W5,Y5,AA5,AC5,AE5,AG5,AI5) -> 4
B6: AZSC/21529/09 | D6: Delcloo, Hanne | H6: 7 | I6: 2 | AJ6: =COUNTA(F6,H6,J6,L6,N6,P6,R6,T6,V6,X6,Z6,AB6,AD6,AF6,AH6) -> 1 | AK6: =SUM(G6,I6,K6,M6,O6,Q6,S6,U6,W6,Y6,AA6,AC6,AE6,AG6,AI6) -> 2
B7: AZSC/21220/09 | D7: Frantsuk, Emilia | H7: 3 | I7: 5 | AJ7: =COUNTA(F7,H7,J7,L7,N7,P7,R7,T7,V7,X7,Z7,AB7,AD7,AF7,AH7) -> 1 | AK7: =SUM(G7,I7,K7,M7,O7,Q7,S7,U7,W7,Y7,AA7,AC7,AE7,AG7,AI7) -> 5
B8: AZSC/21308/11 | D8: Frattaruolo Duka, Laura | AJ8: =COUNTA(F8,H8,J8,L8,N8,P8,R8,T8,V8,X8,Z8,AB8,AD8,AF8,AH8) -> 0 | AK8: =SUM(G8,I8,K8,M8,O8,Q8,S8,U8,W8,Y8,AA8,AC8,AE8,AG8,AI8) -> 0
B9: AZSC/21428/79 | D9: Heyrman, Corinne | H9: 8 | I9: 1 | AJ9: =COUNTA(F9,H9,J9,L9,N9,P9,R9,T9,V9,X9,Z9,AB9,AD9,AF9,AH9) -> 1 | AK9: =SUM(G9,I9,K9,M9,O9,Q9,S9,U9,W9,Y9,AA9,AC9,AE9,AG9,AI9) -> 1
B10: AZSC/21363/09 | D10: Lah, Yelena | H10: 11 | I10: 1 | AJ10: =COUNTA(F10,H10,J10,L10,N10,P10,R10,T10,V10,X10,Z10,AB10,AD10,AF10,AH10) -> 1 | AK10: =SUM(G10,I10,K10,M10,O10,Q10,S10,U10,W10,Y10,AA10,AC10,AE10,AG10,AI10) -> 1
B11: AZSC/21513/97 | D11: Pauwels, Mayenne | AJ11: =COUNTA(F11,H11,J11,L11,N11,P11,R11,T11,V11,X11,Z11,AB11,AD11,AF11,AH11) -> 0 | AK11: =SUM(G11,I11,K11,M11,O11,Q11,S11,U11,W11,Y11,AA11,AC11,AE11,AG11,AI11) -> 0
B12: AZSC/21268/09 | D12: Scheerlinck, Merel | H12: 14 | AJ12: =COUNTA(F12,H12,J12,L12,N12,P12,R12,T12,V12,X12,Z12,AB12,AD12,AF12,AH12) -> 1 | AK12: =SUM(G12,I12,K12,M12,O12,Q12,S12,U12,W12,Y12,AA12,AC12,AE12,AG12,AI12) -> 0
B13: AZSC/21353/12 | D13: Shelest, Marie | H13: 6 | AJ13: =COUNTA(F13,H13,J13,L13,N13,P13,R13,T13,V13,X13,Z13,AB13,AD13,AF13,AH13) -> 1 | AK13: =SUM(G13,I13,K13,M13,O13,Q13,S13,U13,W13,Y13,AA13,AC13,AE13,AG13,AI13) -> 0
B14: AZSC/21216/98 | D14: Van De Poel, Katleen | AJ14: =COUNTA(F14,H14,J14,L14,N14,P14,R14,T14,V14,X14,Z14,AB14,AD14,AF14,AH14) -> 0 | AK14: =SUM(G14,I14,K14,M14,O14,Q14,S14,U14,W14,Y14,AA14,AC14,AE14,AG14,AI14) -> 0
B15: AZSC/21354/12 | D15: Van Hoey, Sterre | H15: 12 | I15: 1 | AJ15: =COUNTA(F15,H15,J15,L15,N15,P15,R15,T15,V15,X15,Z15,AB15,AD15,AF15,AH15) -> 1 | AK15: =SUM(G15,I15,K15,M15,O15,Q15,S15,U15,W15,Y15,AA15,AC15,AE15,AG15,AI15) -> 1
B16: AZSC/21371/09 | D16: van Lieshout, Iris | H16: 1 | AJ16: =COUNTA(F16,H16,J16,L16,N16,P16,R16,T16,V16,X16,Z16,AB16,AD16,AF16,AH16) -> 1 | AK16: =SUM(G16,I16,K16,M16,O16,Q16,S16,U16,W16,Y16,AA16,AC16,AE16,AG16,AI16) -> 0
B17: AZSC/21370/88 | D17: Van Petegem, Sammy | AJ17: =COUNTA(F17,H17,J17,L17,N17,P17,R17,T17,V17,X17,Z17,AB17,AD17,AF17,AH17) -> 0 | AK17: =SUM(G17,I17,K17,M17,O17,Q17,S17,U17,W17,Y17,AA17,AC17,AE17,AG17,AI17) -> 0
B18: AZSC/21504/92 | D18: Van Sprundel, Katrien | H18: 4 | AJ18: =COUNTA(F18,H18,J18,L18,N18,P18,R18,T18,V18,X18,Z18,AB18,AD18,AF18,AH18) -> 1 | AK18: =SUM(G18,I18,K18,M18,O18,Q18,S18,U18,W18,Y18,AA18,AC18,AE18,AG18,AI18) -> 0
AJ19: =COUNTA(F19,H19,J19,L19,N19,P19,R19,T19,V19,X19,Z19,AB19,AD19,AF19,AH19) -> 0 | AK19: =SUM(G19,I19,K19,M19,O19,Q19,S19,U19,W19,Y19,AA19,AC19,AE19,AG19,AI19) -> 0
F20: =COUNTA(F3:F19) -> 0 | G20: =SUM(G3:G19) -> 0 | H20: =COUNTA(H3:H19) -> 12 | I20: =SUM(I3:I19) -> 20 | J20: =COUNTA(J3:J19) -> 0 | K20: =SUM(K3:K19) -> 0 | L20: =COUNTA(L3:L19) -> 0 | M20: =SUM(M3:M19) -> 0 | N20: =COUNTA(N3:N19) -> 0 | O20: =SUM(O3:O19) -> 0 | P20: =COUNTA(P3:P19) -> 0 | Q20: =SUM(Q3:Q19) -> 0 | R20: =COUNTA(R3:R19) -> 0 | S20: =SUM(S3:S19) -> 0 | T20: =COUNTA(T3:T19) -> 0 | U20: =SUM(U3:U19) -> 0 | V20: =COUNTA(V3:V19) -> 0 | W20: =SUM(W3:W19) -> 0 | X20: =COUNTA(X3:X19) -> 0 | Y20: =SUM(Y3:Y19) -> 0 | Z20: =COUNTA(Z3:Z19) -> 0 | AA20: =SUM(AA3:AA19) -> 0 | AB20: =COUNTA(AB3:AB19) -> 0 | AC20: =SUM(AC3:AC19) -> 0 | AD20: =COUNTA(AD3:AD19) -> 0 | AE20: =SUM(AE3:AE19) -> 0 | AF20: =COUNTA(AF3:AF19) -> 0 | AG20: =SUM(AG3:AG19) -> 0 | AH20: =COUNTA(AH3:AH19) -> 0 | AI20: =SUM(AI3:AI19) -> 0 | AK20: =SUM(AK3:AK19) -> 20

Sheet MZV
A1: MZV Eeklo | F1: 461 - 19-09-2026 | H1: 464 - 27-09-2026 | J1: 467 - 11-10-2026 | L1: 471 - 24-10-2026 | N1: 473 - 07-11-2026 | P1: 483 - 09-01-2027 | R1: 485 - 16-01-2027 | T1: 488 - 23-01-2027 | V1: 494 - 21-02-2027 | X1: 495 - 28-02-2027 | Z1: 497 - 06-03-2027 | AB1: 499 - 13-03-2027 | AD1: PO 1 | AF1: PO 2 | AH1: PO 3 | AJ1: Totaal W | AK1: Total G
F2: W | G2: G | H2: W | I2: G | J2: W | K2: G | L2: W | M2: G | N2: W | O2: G | P2: W | Q2: G | R2: W | S2: G | T2: W | U2: G | V2: W | W2: G | X2: W | Y2: G | Z2: W | AA2: G | AB2: W | AC2: G | AD2: W | AE2: G | AF2: W | AG2: G | AH2: W | AI2: G
B3: MZV/21100/11 | D3: De Pauw, Emilia | F3: 8 | H3: 8 | I3: 1 | AJ3: =COUNTA(F3,H3,J3,L3,N3,P3,R3,T3,V3,X3,Z3,AB3,AD3,AF3,AH3) -> 2 | AK3: =SUM(G3,I3,K3,M3,O3,Q3,S3,U3,W3,Y3,AA3,AC3,AE3,AG3,AI3) -> 1
B4: MZV/21001/00 | D4: De Tollenaere, Flore | F4: 4 | G4: 3 | H4: 4 | I4: 2 | J4: 4 | K4: 1 | AJ4: =COUNTA(F4,H4,J4,L4,N4,P4,R4,T4,V4,X4,Z4,AB4,AD4,AF4,AH4) -> 3 | AK4: =SUM(G4,I4,K4,M4,O4,Q4,S4,U4,W4,Y4,AA4,AC4,AE4,AG4,AI4) -> 6
B5: MZV/20607/00 | D5: De Wispelaere, Linde | F5: 11 | H5: 11 | I5: 1 | J5: 11 | K5: 6 | AJ5: =COUNTA(F5,H5,J5,L5,N5,P5,R5,T5,V5,X5,Z5,AB5,AD5,AF5,AH5) -> 3 | AK5: =SUM(G5,I5,K5,M5,O5,Q5,S5,U5,W5,Y5,AA5,AC5,AE5,AG5,AI5) -> 7
B6: MZV/20557/92 | D6: Fiers, Lien | J6: 9 | AJ6: =COUNTA(F6,H6,J6,L6,N6,P6,R6,T6,V6,X6,Z6,AB6,AD6,AF6,AH6) -> 1 | AK6: =SUM(G6,I6,K6,M6,O6,Q6,S6,U6,W6,Y6,AA6,AC6,AE6,AG6,AI6) -> 0
B7: MZV/21065/09 | D7: Grijp, Lena | F7: 10 | G7: 1 | H7: 10 | I7: 1 | J7: 10 | AJ7: =COUNTA(F7,H7,J7,L7,N7,P7,R7,T7,V7,X7,Z7,AB7,AD7,AF7,AH7) -> 3 | AK7: =SUM(G7,I7,K7,M7,O7,Q7,S7,U7,W7,Y7,AA7,AC7,AE7,AG7,AI7) -> 2
B8: MZV/21072/08 | D8: Hellebuyck, Merel | F8: 2 | H8: 2 | I8: 5 | J8: 1 | AJ8: =COUNTA(F8,H8,J8,L8,N8,P8,R8,T8,V8,X8,Z8,AB8,AD8,AF8,AH8) -> 3 | AK8: =SUM(G8,I8,K8,M8,O8,Q8,S8,U8,W8,Y8,AA8,AC8,AE8,AG8,AI8) -> 5
B9: MZV/21075/92 | D9: Nobels, Valerie | AJ9: =COUNTA(F9,H9,J9,L9,N9,P9,R9,T9,V9,X9,Z9,AB9,AD9,AF9,AH9) -> 0 | AK9: =SUM(G9,I9,K9,M9,O9,Q9,S9,U9,W9,Y9,AA9,AC9,AE9,AG9,AI9) -> 0
B10: MZV/21074/10 | D10: Sergeant, Karen | F10: 3 | H10: 3 | I10: 10 | J10: 3 | K10: 6 | AJ10: =COUNTA(F10,H10,J10,L10,N10,P10,R10,T10,V10,X10,Z10,AB10,AD10,AF10,AH10) -> 3 | AK10: =SUM(G10,I10,K10,M10,O10,Q10,S10,U10,W10,Y10,AA10,AC10,AE10,AG10,AI10) -> 16
B11: MZV/21007/04 | D11: Van Daele, Elise | F11: 12 | H11: 12 | I11: 1 | J11: 12 | K11: 3 | AJ11: =COUNTA(F11,H11,J11,L11,N11,P11,R11,T11,V11,X11,Z11,AB11,AD11,AF11,AH11) -> 3 | AK11: =SUM(G11,I11,K11,M11,O11,Q11,S11,U11,W11,Y11,AA11,AC11,AE11,AG11,AI11) -> 4
B12: MZV/21091/07 | D12: Van Hautte, Mette | F12: 6 | J12: 6 | AJ12: =COUNTA(F12,H12,J12,L12,N12,P12,R12,T12,V12,X12,Z12,AB12,AD12,AF12,AH12) -> 2 | AK12: =SUM(G12,I12,K12,M12,O12,Q12,S12,U12,W12,Y12,AA12,AC12,AE12,AG12,AI12) -> 0
B13: MZV/21057/01 | D13: Vandelanotte, Nele | F13: 1 | H13: 1 | AJ13: =COUNTA(F13,H13,J13,L13,N13,P13,R13,T13,V13,X13,Z13,AB13,AD13,AF13,AH13) -> 2 | AK13: =SUM(G13,I13,K13,M13,O13,Q13,S13,U13,W13,Y13,AA13,AC13,AE13,AG13,AI13) -> 0
B14: MZV/21109/12 | D14: Waelkens, Maily | F14: 5 | H14: 5 | I14: 2 | J14: 5 | K14: 2 | AJ14: =COUNTA(F14,H14,J14,L14,N14,P14,R14,T14,V14,X14,Z14,AB14,AD14,AF14,AH14) -> 3 | AK14: =SUM(G14,I14,K14,M14,O14,Q14,S14,U14,W14,Y14,AA14,AC14,AE14,AG14,AI14) -> 4
B15: MZV/21108/12 | D15: Windels, Laura | F15: 7 | H15: 7 | I15: 3 | J15: 7 | AJ15: =COUNTA(F15,H15,J15,L15,N15,P15,R15,T15,V15,X15,Z15,AB15,AD15,AF15,AH15) -> 3 | AK15: =SUM(G15,I15,K15,M15,O15,Q15,S15,U15,W15,Y15,AA15,AC15,AE15,AG15,AI15) -> 3
AJ16: =COUNTA(F16,H16,J16,L16,N16,P16,R16,T16,V16,X16,Z16,AB16,AD16,AF16,AH16) -> 0 | AK16: =SUM(G16,I16,K16,M16,O16,Q16,S16,U16,W16,Y16,AA16,AC16,AE16,AG16,AI16) -> 0
AJ17: =COUNTA(F17,H17,J17,L17,N17,P17,R17,T17,V17,X17,Z17,AB17,AD17,AF17,AH17) -> 0 | AK17: =SUM(G17,I17,K17,M17,O17,Q17,S17,U17,W17,Y17,AA17,AC17,AE17,AG17,AI17) -> 0
AJ18: =COUNTA(F18,H18,J18,L18,N18,P18,R18,T18,V18,X18,Z18,AB18,AD18,AF18,AH18) -> 0 | AK18: =SUM(G18,I18,K18,M18,O18,Q18,S18,U18,W18,Y18,AA18,AC18,AE18,AG18,AI18) -> 0
AJ19: =COUNTA(F19,H19,J19,L19,N19,P19,R19,T19,V19,X19,Z19,AB19,AD19,AF19,AH19) -> 0 | AK19: =SUM(G19,I19,K19,M19,O19,Q19,S19,U19,W19,Y19,AA19,AC19,AE19,AG19,AI19) -> 0
F20: =COUNTA(F3:F19) -> 11 | G20: =SUM(G3:G19) -> 4 | H20: =COUNTA(H3:H19) -> 10 | I20: =SUM(I3:I19) -> 26 | J20: =COUNTA(J3:J19) -> 10 | K20: =SUM(K3:K19) -> 18 | L20: =COUNTA(L3:L19) -> 0 | M20: =SUM(M3:M19) -> 0 | N20: =COUNTA(N3:N19) -> 0 | O20: =SUM(O3:O19) -> 0 | P20: =COUNTA(P3:P19) -> 0 | Q20: =SUM(Q3:Q19) -> 0 | R20: =COUNTA(R3:R19) -> 0 | S20: =SUM(S3:S19) -> 0 | T20: =COUNTA(T3:T19) -> 0 | U20: =SUM(U3:U19) -> 0 | V20: =COUNTA(V3:V19) -> 0 | W20: =SUM(W3:W19) -> 0 | X20: =COUNTA(X3:X19) -> 0 | Y20: =SUM(Y3:Y19) -> 0 | Z20: =COUNTA(Z3:Z19) -> 0 | AA20: =SUM(AA3:AA19) -> 0 | AB20: =COUNTA(AB3:AB19) -> 0 | AC20: =SUM(AC3:AC19) -> 0 | AD20: =COUNTA(AD3:AD19) -> 0 | AE20: =SUM(AE3:AE19) -> 0 | AF20: =COUNTA(AF3:AF19) -> 0 | AG20: =SUM(AG3:AG19) -> 0 | AH20: =COUNTA(AH3:AH19) -> 0 | AI20: =SUM(AI3:AI19) -> 0 | AK20: =SUM(AK3:AK19) -> 48

Sheet KGZV
A1: K Gentse ZV | F1: 462 - 19-09-2026 | H1: 466 - 03-10-2026 | J1: 468 - 11-10-2026 | L1: 472 - 24-10-2026 | N1: 476 - 15-11-2026 | P1: 480 - 06-12-2026 | R1: 486 - 17-01-2027 | T1: 489 - 23-01-2027 | V1: 491 - 14-02-2027 | X1: 494 - 21-02-2027 | Z1: 497 - 06-03-2027 | AB1: 500 - 13-03-2027 | AD1: PO 1 | AF1: PO 2 | AH1: PO 3 | AJ1: Totaal W | AK1: Total G
F2: W | G2: G | H2: W | I2: G | J2: W | K2: G | L2: W | M2: G | N2: W | O2: G | P2: W | Q2: G | R2: W | S2: G | T2: W | U2: G | V2: W | W2: G | X2: W | Y2: G | Z2: W | AA2: G | AB2: W | AC2: G | AD2: W | AE2: G | AF2: W | AG2: G | AH2: W | AI2: G
B3: GZV/20257/98 | D3: Baudonck, Leen | H3: 13 | AJ3: =COUNTA(F3,H3,J3,L3,N3,P3,R3,T3,V3,X3,Z3,AB3,AD3,AF3,AH3) -> 1 | AK3: =SUM(G3,I3,K3,M3,O3,Q3,S3,U3,W3,Y3,AA3,AC3,AE3,AG3,AI3) -> 0
B4: GZV/21152/11 | D4: De Wulf, Fleur | H4: 3 | I4: 1 | AJ4: =COUNTA(F4,H4,J4,L4,N4,P4,R4,T4,V4,X4,Z4,AB4,AD4,AF4,AH4) -> 1 | AK4: =SUM(G4,I4,K4,M4,O4,Q4,S4,U4,W4,Y4,AA4,AC4,AE4,AG4,AI4) -> 1
B5: GZV/21202/00 | D5: Di Guglielmo, Gabriella | H5: 6 | I5: 4 | AJ5: =COUNTA(F5,H5,J5,L5,N5,P5,R5,T5,V5,X5,Z5,AB5,AD5,AF5,AH5) -> 1 | AK5: =SUM(G5,I5,K5,M5,O5,Q5,S5,U5,W5,Y5,AA5,AC5,AE5,AG5,AI5) -> 4
B6: GZV/20162/95 | D6: Laton, Janne | H6: 11 | I6: 1 | AJ6: =COUNTA(F6,H6,J6,L6,N6,P6,R6,T6,V6,X6,Z6,AB6,AD6,AF6,AH6) -> 1 | AK6: =SUM(G6,I6,K6,M6,O6,Q6,S6,U6,W6,Y6,AA6,AC6,AE6,AG6,AI6) -> 1
B7: GZV/20142/93 | D7: Laton, Nona | H7: 2 | AJ7: =COUNTA(F7,H7,J7,L7,N7,P7,R7,T7,V7,X7,Z7,AB7,AD7,AF7,AH7) -> 1 | AK7: =SUM(G7,I7,K7,M7,O7,Q7,S7,U7,W7,Y7,AA7,AC7,AE7,AG7,AI7) -> 0
B8: GZV/21223/02 | D8: Matias Gomes, Julia | H8: 1 | AJ8: =COUNTA(F8,H8,J8,L8,N8,P8,R8,T8,V8,X8,Z8,AB8,AD8,AF8,AH8) -> 1 | AK8: =SUM(G8,I8,K8,M8,O8,Q8,S8,U8,W8,Y8,AA8,AC8,AE8,AG8,AI8) -> 0
B9: GZV/21294/06 | D9: Matias Gomes, Maud | H9: 10 | AJ9: =COUNTA(F9,H9,J9,L9,N9,P9,R9,T9,V9,X9,Z9,AB9,AD9,AF9,AH9) -> 1 | AK9: =SUM(G9,I9,K9,M9,O9,Q9,S9,U9,W9,Y9,AA9,AC9,AE9,AG9,AI9) -> 0
B10: GZV/21248/01 | D10: Thaets, Leonie | H10: 5 | I10: 1 | AJ10: =COUNTA(F10,H10,J10,L10,N10,P10,R10,T10,V10,X10,Z10,AB10,AD10,AF10,AH10) -> 1 | AK10: =SUM(G10,I10,K10,M10,O10,Q10,S10,U10,W10,Y10,AA10,AC10,AE10,AG10,AI10) -> 1
B11: GZV/21163/12 | D11: Van Gheluwe, Janne | H11: 14 | AJ11: =COUNTA(F11,H11,J11,L11,N11,P11,R11,T11,V11,X11,Z11,AB11,AD11,AF11,AH11) -> 1 | AK11: =SUM(G11,I11,K11,M11,O11,Q11,S11,U11,W11,Y11,AA11,AC11,AE11,AG11,AI11) -> 0
B12: GZV/21029/04 | D12: Vandaele, Laura | H12: 9 | I12: 4 | AJ12: =COUNTA(F12,H12,J12,L12,N12,P12,R12,T12,V12,X12,Z12,AB12,AD12,AF12,AH12) -> 1 | AK12: =SUM(G12,I12,K12,M12,O12,Q12,S12,U12,W12,Y12,AA12,AC12,AE12,AG12,AI12) -> 4
B13: GZV/21289/07 | D13: Vekemans, Rena | H13: 8 | I13: 1 | AJ13: =COUNTA(F13,H13,J13,L13,N13,P13,R13,T13,V13,X13,Z13,AB13,AD13,AF13,AH13) -> 1 | AK13: =SUM(G13,I13,K13,M13,O13,Q13,S13,U13,W13,Y13,AA13,AC13,AE13,AG13,AI13) -> 1
B14: GZV/21148/09 | D14: Verbeke, Julie | H14: 12 | I14: 2 | AJ14: =COUNTA(F14,H14,J14,L14,N14,P14,R14,T14,V14,X14,Z14,AB14,AD14,AF14,AH14) -> 1 | AK14: =SUM(G14,I14,K14,M14,O14,Q14,S14,U14,W14,Y14,AA14,AC14,AE14,AG14,AI14) -> 2
B15: GZV/21222/90 | D15: Vousdoukos, Alexia | H15: 7 | I15: 5 | AJ15: =COUNTA(F15,H15,J15,L15,N15,P15,R15,T15,V15,X15,Z15,AB15,AD15,AF15,AH15) -> 1 | AK15: =SUM(G15,I15,K15,M15,O15,Q15,S15,U15,W15,Y15,AA15,AC15,AE15,AG15,AI15) -> 5
B16: GZV/21075/07 | D16: Wyckhuyze, Lisa | H16: 4 | AJ16: =COUNTA(F16,H16,J16,L16,N16,P16,R16,T16,V16,X16,Z16,AB16,AD16,AF16,AH16) -> 1 | AK16: =SUM(G16,I16,K16,M16,O16,Q16,S16,U16,W16,Y16,AA16,AC16,AE16,AG16,AI16) -> 0
AJ17: =COUNTA(F17,H17,J17,L17,N17,P17,R17,T17,V17,X17,Z17,AB17,AD17,AF17,AH17) -> 0 | AK17: =SUM(G17,I17,K17,M17,O17,Q17,S17,U17,W17,Y17,AA17,AC17,AE17,AG17,AI17) -> 0
AJ18: =COUNTA(F18,H18,J18,L18,N18,P18,R18,T18,V18,X18,Z18,AB18,AD18,AF18,AH18) -> 0 | AK18: =SUM(G18,I18,K18,M18,O18,Q18,S18,U18,W18,Y18,AA18,AC18,AE18,AG18,AI18) -> 0
AJ19: =COUNTA(F19,H19,J19,L19,N19,P19,R19,T19,V19,X19,Z19,AB19,AD19,AF19,AH19) -> 0 | AK19: =SUM(G19,I19,K19,M19,O19,Q19,S19,U19,W19,Y19,AA19,AC19,AE19,AG19,AI19) -> 0
AJ20: =COUNTA(F20,H20,J20,L20,N20,P20,R20,T20,V20,X20,Z20,AB20,AD20,AF20,AH20) -> 0 | AK20: =SUM(G20,I20,K20,M20,O20,Q20,S20,U20,W20,Y20,AA20,AC20,AE20,AG20,AI20) -> 0
AJ21: =COUNTA(F21,H21,J21,L21,N21,P21,R21,T21,V21,X21,Z21,AB21,AD21,AF21,AH21) -> 0 | AK21: =SUM(G21,I21,K21,M21,O21,Q21,S21,U21,W21,Y21,AA21,AC21,AE21,AG21,AI21) -> 0
AJ22: =COUNTA(F22,H22,J22,L22,N22,P22,R22,T22,V22,X22,Z22,AB22,AD22,AF22,AH22) -> 0 | AK22: =SUM(G22,I22,K22,M22,O22,Q22,S22,U22,W22,Y22,AA22,AC22,AE22,AG22,AI22) -> 0
AJ23: =COUNTA(F23,H23,J23,L23,N23,P23,R23,T23,V23,X23,Z23,AB23,AD23,AF23,AH23) -> 0 | AK23: =SUM(G23,I23,K23,M23,O23,Q23,S23,U23,W23,Y23,AA23,AC23,AE23,AG23,AI23) -> 0
F24: =COUNTA(F3:F23) -> 0 | G24: =SUM(G3:G23) -> 0 | H24: =COUNTA(H3:H23) -> 14 | I24: =SUM(I3:I23) -> 19 | J24: =COUNTA(J3:J23) -> 0 | K24: =SUM(K3:K23) -> 0 | L24: =COUNTA(L3:L23) -> 0 | M24: =SUM(M3:M23) -> 0 | N24: =COUNTA(N3:N23) -> 0 | O24: =SUM(O3:O23) -> 0 | P24: =COUNTA(P3:P23) -> 0 | Q24: =SUM(Q3:Q23) -> 0 | R24: =COUNTA(R3:R23) -> 0 | S24: =SUM(S3:S23) -> 0 | T24: =COUNTA(T3:T23) -> 0 | U24: =SUM(U3:U23) -> 0 | V24: =COUNTA(V3:V23) -> 0 | W24: =SUM(W3:W23) -> 0 | X24: =COUNTA(X3:X23) -> 0 | Y24: =SUM(Y3:Y23) -> 0 | Z24: =COUNTA(Z3:Z23) -> 0 | AA24: =SUM(AA3:AA23) -> 0 | AB24: =COUNTA(AB3:AB23) -> 0 | AC24: =SUM(AC3:AC23) -> 0 | AD24: =COUNTA(AD3:AD23) -> 0 | AE24: =SUM(AE3:AE23) -> 0 | AF24: =COUNTA(AF3:AF23) -> 0 | AG24: =SUM(AG3:AG23) -> 0 | AH24: =COUNTA(AH3:AH23) -> 0 | AI24: =SUM(AI3:AI23) -> 0 | AK24: =SUM(AK3:AK23) -> 19

Sheet KWK
A1: Kortrijk WK | F1: 463 - 26-09-2026 | H1: 466 - 03-10-2026 | J1: 467 - 11-10-2026 | L1: 475 - 15-11-2026 | N1: 477 - 21-11-2026 | P1: 481 - 06-12-2026 | R1: 482 - 13-12-2026 | T1: 484 - 10-01-2027 | V1: 486 - 17-01-2027 | X1: 488 - 23-01-2027 | Z1: 493 - 20-02-2027 | AB1: 498 - 07-03-2027 | AD1: PO 1 | AF1: PO 2 | AH1: PO 3 | AJ1: Totaal W | AK1: Total G
F2: W | G2: G | H2: W | I2: G | J2: W | K2: G | L2: W | M2: G | N2: W | O2: G | P2: W | Q2: G | R2: W | S2: G | T2: W | U2: G | V2: W | W2: G | X2: W | Y2: G | Z2: W | AA2: G | AB2: W | AC2: G | AD2: W | AE2: G | AF2: W | AG2: G | AH2: W | AI2: G
B3: KWK/21095/00 | D3: Carlu, Axelle | F3: 8 | H3: 8 | I3: 1 | J3: 8 | K3: 1 | AJ3: =COUNTA(F3,H3,J3,L3,N3,P3,R3,T3,V3,X3,Z3,AB3,AD3,AF3,AH3) -> 3 | AK3: =SUM(G3,I3,K3,M3,O3,Q3,S3,U3,W3,Y3,AA3,AC3,AE3,AG3,AI3) -> 2
B4: KWK/21225/11 | D4: Christiaens, Marjolijn | F4: 11 | H4: 11 | J4: 11 | K4: 1 | AJ4: =COUNTA(F4,H4,J4,L4,N4,P4,R4,T4,V4,X4,Z4,AB4,AD4,AF4,AH4) -> 3 | AK4: =SUM(G4,I4,K4,M4,O4,Q4,S4,U4,W4,Y4,AA4,AC4,AE4,AG4,AI4) -> 1
B5: KWK/21179/10 | D5: Desmet, Lena | F5: 4 | G5: 3 | H5: 4 | I5: 1 | J5: 4 | K5: 1 | AJ5: =COUNTA(F5,H5,J5,L5,N5,P5,R5,T5,V5,X5,Z5,AB5,AD5,AF5,AH5) -> 3 | AK5: =SUM(G5,I5,K5,M5,O5,Q5,S5,U5,W5,Y5,AA5,AC5,AE5,AG5,AI5) -> 5
B6: KWK/21291/06 | D6: Devos, Elize | F6: 2 | H6: 2 | AJ6: =COUNTA(F6,H6,J6,L6,N6,P6,R6,T6,V6,X6,Z6,AB6,AD6,AF6,AH6) -> 2 | AK6: =SUM(G6,I6,K6,M6,O6,Q6,S6,U6,W6,Y6,AA6,AC6,AE6,AG6,AI6) -> 0
B7: KWK/21101/08 | D7: Mattelaer, Manon | F7: 12 | G7: 4 | J7: 12 | K7: 5 | AJ7: =COUNTA(F7,H7,J7,L7,N7,P7,R7,T7,V7,X7,Z7,AB7,AD7,AF7,AH7) -> 2 | AK7: =SUM(G7,I7,K7,M7,O7,Q7,S7,U7,W7,Y7,AA7,AC7,AE7,AG7,AI7) -> 9
B8: KWK/20042/98 | D8: Nel, Sarah | F8: 10 | H8: 10 | I8: 3 | J8: 10 | K8: 5 | AJ8: =COUNTA(F8,H8,J8,L8,N8,P8,R8,T8,V8,X8,Z8,AB8,AD8,AF8,AH8) -> 3 | AK8: =SUM(G8,I8,K8,M8,O8,Q8,S8,U8,W8,Y8,AA8,AC8,AE8,AG8,AI8) -> 8
B9: KWK/21145/08 | D9: Stockman, Saar | F9: 1 | H9: 1 | J9: 3 | AJ9: =COUNTA(F9,H9,J9,L9,N9,P9,R9,T9,V9,X9,Z9,AB9,AD9,AF9,AH9) -> 3 | AK9: =SUM(G9,I9,K9,M9,O9,Q9,S9,U9,W9,Y9,AA9,AC9,AE9,AG9,AI9) -> 0
B10: KWK/21083/05 | D10: Stockman, Fien | F10: 7 | H10: 7 | J10: 7 | AJ10: =COUNTA(F10,H10,J10,L10,N10,P10,R10,T10,V10,X10,Z10,AB10,AD10,AF10,AH10) -> 3 | AK10: =SUM(G10,I10,K10,M10,O10,Q10,S10,U10,W10,Y10,AA10,AC10,AE10,AG10,AI10) -> 0
B11: KWK/21203/11 | D11: Van Royen, Torah | F11: 5 | G11: 1 | H11: 5 | J11: 5 | K11: 5 | AJ11: =COUNTA(F11,H11,J11,L11,N11,P11,R11,T11,V11,X11,Z11,AB11,AD11,AF11,AH11) -> 3 | AK11: =SUM(G11,I11,K11,M11,O11,Q11,S11,U11,W11,Y11,AA11,AC11,AE11,AG11,AI11) -> 6
B12: KWK/21228/82 | D12: Verriest, Sofie | J12: 1 | AJ12: =COUNTA(F12,H12,J12,L12,N12,P12,R12,T12,V12,X12,Z12,AB12,AD12,AF12,AH12) -> 1 | AK12: =SUM(G12,I12,K12,M12,O12,Q12,S12,U12,W12,Y12,AA12,AC12,AE12,AG12,AI12) -> 0
B13: KWK/21229/83 | D13: Vervaecke, Joke | F13: 6 | H13: 6 | J13: 6 | AJ13: =COUNTA(F13,H13,J13,L13,N13,P13,R13,T13,V13,X13,Z13,AB13,AD13,AF13,AH13) -> 3 | AK13: =SUM(G13,I13,K13,M13,O13,Q13,S13,U13,W13,Y13,AA13,AC13,AE13,AG13,AI13) -> 0
B14: KWK/21316/09 | D14: Vanden Driessche, Febe | H14: 3 | J14: 9 | K14: 2 | AJ14: =COUNTA(F14,H14,J14,L14,N14,P14,R14,T14,V14,X14,Z14,AB14,AD14,AF14,AH14) -> 2 | AK14: =SUM(G14,I14,K14,M14,O14,Q14,S14,U14,W14,Y14,AA14,AC14,AE14,AG14,AI14) -> 2
AJ15: =COUNTA(F15,H15,J15,L15,N15,P15,R15,T15,V15,X15,Z15,AB15,AD15,AF15,AH15) -> 0 | AK15: =SUM(G15,I15,K15,M15,O15,Q15,S15,U15,W15,Y15,AA15,AC15,AE15,AG15,AI15) -> 0
AJ16: =COUNTA(F16,H16,J16,L16,N16,P16,R16,T16,V16,X16,Z16,AB16,AD16,AF16,AH16) -> 0 | AK16: =SUM(G16,I16,K16,M16,O16,Q16,S16,U16,W16,Y16,AA16,AC16,AE16,AG16,AI16) -> 0
AJ17: =COUNTA(F17,H17,J17,L17,N17,P17,R17,T17,V17,X17,Z17,AB17,AD17,AF17,AH17) -> 0 | AK17: =SUM(G17,I17,K17,M17,O17,Q17,S17,U17,W17,Y17,AA17,AC17,AE17,AG17,AI17) -> 0
AJ18: =COUNTA(F18,H18,J18,L18,N18,P18,R18,T18,V18,X18,Z18,AB18,AD18,AF18,AH18) -> 0 | AK18: =SUM(G18,I18,K18,M18,O18,Q18,S18,U18,W18,Y18,AA18,AC18,AE18,AG18,AI18) -> 0
AJ19: =COUNTA(F19,H19,J19,L19,N19,P19,R19,T19,V19,X19,Z19,AB19,AD19,AF19,AH19) -> 0 | AK19: =SUM(G19,I19,K19,M19,O19,Q19,S19,U19,W19,Y19,AA19,AC19,AE19,AG19,AI19) -> 0
AJ20: =COUNTA(F20,H20,J20,L20,N20,P20,R20,T20,V20,X20,Z20,AB20,AD20,AF20,AH20) -> 0 | AK20: =SUM(G20,I20,K20,M20,O20,Q20,S20,U20,W20,Y20,AA20,AC20,AE20,AG20,AI20) -> 0
AJ21: =COUNTA(F21,H21,J21,L21,N21,P21,R21,T21,V21,X21,Z21,AB21,AD21,AF21,AH21) -> 0 | AK21: =SUM(G21,I21,K21,M21,O21,Q21,S21,U21,W21,Y21,AA21,AC21,AE21,AG21,AI21) -> 0
F22: =COUNTA(F3:F21) -> 10 | G22: =SUM(G3:G21) -> 8 | H22: =COUNTA(H3:H21) -> 10 | I22: =SUM(I3:I21) -> 5 | J22: =COUNTA(J3:J21) -> 11 | K22: =SUM(K3:K21) -> 20 | L22: =COUNTA(L3:L21) -> 0 | M22: =SUM(M3:M21) -> 0 | N22: =COUNTA(N3:N21) -> 0 | O22: =SUM(O3:O21) -> 0 | P22: =COUNTA(P3:P21) -> 0 | Q22: =SUM(Q3:Q21) -> 0 | R22: =COUNTA(R3:R21) -> 0 | S22: =SUM(S3:S21) -> 0 | T22: =COUNTA(T3:T21) -> 0 | U22: =SUM(U3:U21) -> 0 | V22: =COUNTA(V3:V21) -> 0 | W22: =SUM(W3:W21) -> 0 | X22: =COUNTA(X3:X21) -> 0 | Y22: =SUM(Y3:Y21) -> 0 | Z22: =COUNTA(Z3:Z21) -> 0 | AA22: =SUM(AA3:AA21) -> 0 | AB22: =COUNTA(AB3:AB21) -> 0 | AC22: =SUM(AC3:AC21) -> 0 | AD22: =COUNTA(AD3:AD21) -> 0 | AE22: =SUM(AE3:AE21) -> 0 | AF22: =COUNTA(AF3:AF21) -> 0 | AG22: =SUM(AG3:AG21) -> 0 | AH22: =COUNTA(AH3:AH21) -> 0 | AI22: =SUM(AI3:AI21) -> 0 | AK22: =SUM(AK3:AK21) -> 33

Sheet LAQUA
A1: Leuven Aqua | F1: 465 - 03-10-2026 | H1: 468 - 11-10-2026 | J1: 471 - 24-10-2026 | L1: 474 - 14-11-2026 | N1: 477 - 21-11-2026 | P1: 479 - 29-11-2026 | R1: 485 - 16-01-2027 | T1: 489 - 23-01-2027 | V1: 492 - 14-02-2027 | X1: 498 - 07-03-2027 | Z1: 501 - 14-03-2027 | AB1: 502 - 21-03-2027 | AJ1: Totaal W | AK1: Total G
F2: W | G2: G | H2: W | I2: G | J2: W | K2: G | L2: W | M2: G | N2: W | O2: G | P2: W | Q2: G | R2: W | S2: G | T2: W | U2: G | V2: W | W2: G | X2: W | Y2: G | Z2: W | AA2: G | AB2: W | AC2: G | AD2: W | AE2: G | AF2: W | AG2: G | AH2: W | AI2: G
B3: LAQUA/21721/05 | D3: Apers, Victoire | AJ3: =COUNTA(F3,H3,J3,L3,N3,P3,R3,T3,V3,X3,Z3,AB3,AD3,AF3,AH3) -> 0 | AK3: =SUM(G3,I3,K3,M3,O3,Q3,S3,U3,W3,Y3,AA3,AC3,AE3,AG3,AI3) -> 0
B4: LAQUA/21714/99 | D4: Aranyi, Réka | AJ4: =COUNTA(F4,H4,J4,L4,N4,P4,R4,T4,V4,X4,Z4,AB4,AD4,AF4,AH4) -> 0 | AK4: =SUM(G4,I4,K4,M4,O4,Q4,S4,U4,W4,Y4,AA4,AC4,AE4,AG4,AI4) -> 0
B5: LAQUA/21015/02 | D5: Cauwenberg, Lotte | AJ5: =COUNTA(F5,H5,J5,L5,N5,P5,R5,T5,V5,X5,Z5,AB5,AD5,AF5,AH5) -> 0 | AK5: =SUM(G5,I5,K5,M5,O5,Q5,S5,U5,W5,Y5,AA5,AC5,AE5,AG5,AI5) -> 0
B6: LAQUA/20250/91 | D6: Claes, Lien | AJ6: =COUNTA(F6,H6,J6,L6,N6,P6,R6,T6,V6,X6,Z6,AB6,AD6,AF6,AH6) -> 0 | AK6: =SUM(G6,I6,K6,M6,O6,Q6,S6,U6,W6,Y6,AA6,AC6,AE6,AG6,AI6) -> 0
B7: LAQUA/20407/97 | D7: Claes, Irene | AJ7: =COUNTA(F7,H7,J7,L7,N7,P7,R7,T7,V7,X7,Z7,AB7,AD7,AF7,AH7) -> 0 | AK7: =SUM(G7,I7,K7,M7,O7,Q7,S7,U7,W7,Y7,AA7,AC7,AE7,AG7,AI7) -> 0
B8: LAQUA/21567/12 | D8: Delaere, Leene | AJ8: =COUNTA(F8,H8,J8,L8,N8,P8,R8,T8,V8,X8,Z8,AB8,AD8,AF8,AH8) -> 0 | AK8: =SUM(G8,I8,K8,M8,O8,Q8,S8,U8,W8,Y8,AA8,AC8,AE8,AG8,AI8) -> 0
B9: LAQUA/20295/99 | D9: Delport, Lotte | AJ9: =COUNTA(F9,H9,J9,L9,N9,P9,R9,T9,V9,X9,Z9,AB9,AD9,AF9,AH9) -> 0 | AK9: =SUM(G9,I9,K9,M9,O9,Q9,S9,U9,W9,Y9,AA9,AC9,AE9,AG9,AI9) -> 0
B10: LAQUA/20359/01 | D10: Delport, Hanne | AJ10: =COUNTA(F10,H10,J10,L10,N10,P10,R10,T10,V10,X10,Z10,AB10,AD10,AF10,AH10) -> 0 | AK10: =SUM(G10,I10,K10,M10,O10,Q10,S10,U10,W10,Y10,AA10,AC10,AE10,AG10,AI10) -> 0
B11: LAQUA/21408/94 | D11: Dierckx, Emma | AJ11: =COUNTA(F11,H11,J11,L11,N11,P11,R11,T11,V11,X11,Z11,AB11,AD11,AF11,AH11) -> 0 | AK11: =SUM(G11,I11,K11,M11,O11,Q11,S11,U11,W11,Y11,AA11,AC11,AE11,AG11,AI11) -> 0
B12: LAQUA/21327/06 | D12: Gillard, Elena | AJ12: =COUNTA(F12,H12,J12,L12,N12,P12,R12,T12,V12,X12,Z12,AB12,AD12,AF12,AH12) -> 0 | AK12: =SUM(G12,I12,K12,M12,O12,Q12,S12,U12,W12,Y12,AA12,AC12,AE12,AG12,AI12) -> 0
B13: LAQUA/21720/10 | D13: Goyens, Malou | AJ13: =COUNTA(F13,H13,J13,L13,N13,P13,R13,T13,V13,X13,Z13,AB13,AD13,AF13,AH13) -> 0 | AK13: =SUM(G13,I13,K13,M13,O13,Q13,S13,U13,W13,Y13,AA13,AC13,AE13,AG13,AI13) -> 0
B14: LAQUA/21470/99 | D14: Haegemans, Fin | AJ14: =COUNTA(F14,H14,J14,L14,N14,P14,R14,T14,V14,X14,Z14,AB14,AD14,AF14,AH14) -> 0 | AK14: =SUM(G14,I14,K14,M14,O14,Q14,S14,U14,W14,Y14,AA14,AC14,AE14,AG14,AI14) -> 0
... B20: LAQUA/21244/07 | D20: Vankeerberghen, Tessa | AJ20: =COUNTA(F20,H20,J20,L20,N20,P20,R20,T20,V20,X20,Z20,AB20,AD20,AF20,AH20) -> 0 | AK20: =SUM(G20,I20,K20,M20,O20,Q20,S20,U20,W20,Y20,AA20,AC20,AE20,AG20,AI20) -> 0
AJ21: =COUNTA(F21,H21,J21,L21,N21,P21,R21,T21,V21,X21,Z21,AB21,AD21,AF21,AH21) -> 0 | AK21: =SUM(G21,I21,K21,M21,O21,Q21,S21,U21,W21,Y21,AA21,AC21,AE21,AG21,AI21) -> 0
AJ22: =COUNTA(F22,H22,J22,L22,N22,P22,R22,T22,V22,X22,Z22,AB22,AD22,AF22,AH22) -> 0 | AK22: =SUM(G22,I22,K22,M22,O22,Q22,S22,U22,W22,Y22,AA22,AC22,AE22,AG22,AI22) -> 0
F23: =COUNTA(F3:F22) -> 0 | G23: =SUM(G3:G22) -> 0 | H23: =COUNTA(H3:H22) -> 0 | I23: =SUM(I3:I22) -> 0 | J23: =COUNTA(J3:J22) -> 0 | K23: =SUM(K3:K22) -> 0 | L23: =COUNTA(L3:L22) -> 0 | M23: =SUM(M3:M22) -> 0 | N23: =COUNTA(N3:N22) -> 0 | O23: =SUM(O3:O22) -> 0 | P23: =COUNTA(P3:P22) -> 0 | Q23: =SUM(Q3:Q22) -> 0 | R23: =COUNTA(R3:R22) -> 0 | S23: =SUM(S3:S22) -> 0 | T23: =COUNTA(T3:T22) -> 0 | U23: =SUM(U3:U22) -> 0 | V23: =COUNTA(V3:V22) -> 0 | W23: =SUM(W3:W22) -> 0 | X23: =COUNTA(X3:X22) -> 0 | Y23: =SUM(Y3:Y22) -> 0 | Z23: =COUNTA(Z3:Z22) -> 0 | AA23: =SUM(AA3:AA22) -> 0 | AB23: =COUNTA(AB3:AB22) -> 0 | AC23: =SUM(AC3:AC22) -> 0 | AD23: =COUNTA(AD3:AD22) -> 0 | AE23: =SUM(AE3:AE22) -> 0 | AF23: =COUNTA(AF3:AF22) -> 0 | AG23: =SUM(AG3:AG22) -> 0 | AH23: =COUNTA(AH3:AH22) -> 0 | AI23: =SUM(AI3:AI22) -> 0 | AK23: =SUM(AK3:AK22) -> 0

Sheet CCM
A1: CC Mons | F1: 464 - 27-09-2026 | H1: 469 - 11-10-2026 | J1: 470 - 17-10-2026 | L1: 476 - 15-11-2026 | N1: 479 - 29-11-2026 | P1: 481 - 06-12-2026 | R1: 482 - 13-12-2026 | T1: 483 - 09-01-2027 | V1: 487 - 17-01-2027 | X1: 490 - 23-01-2027 | Z1: 491 - 14-02-2027 | AB1: 501 - 14-03-2027 | AD1: PO 1 | AF1: PO 2 | AH1: PO 3 | AJ1: Total M | AK1: Total G
F2: M | G2: G | H2: M | I2: G | J2: M | K2: G | L2: M | M2: G | N2: M | O2: G | P2: M | Q2: G | R2: M | S2: G | T2: M | U2: G | V2: M | W2: G | X2: M | Y2: G | Z2: M | AA2: G | AB2: M | AC2: G | AD2: M | AE2: G | AF2: M | AG2: G | AH2: M | AI2: G
B3: CCM/764892/05 | D3: BAETENS, Leona | F3: 2 | G3: 1 | H3: 2 | AJ3: =COUNTA(F3,H3,J3,L3,N3,P3,R3,T3,V3,X3,Z3,AB3,AD3,AF3,AH3) -> 2 | AK3: =SUM(G3,I3,K3,M3,O3,Q3,S3,U3,W3,Y3,AA3,AC3,AE3,AG3,AI3) -> 1
B4: CCM/015226/96 | D4: CACI, Alessia | F4: 3 | G4: 1 | H4: 3 | I4: 1 | AJ4: =COUNTA(F4,H4,J4,L4,N4,P4,R4,T4,V4,X4,Z4,AB4,AD4,AF4,AH4) -> 2 | AK4: =SUM(G4,I4,K4,M4,O4,Q4,S4,U4,W4,Y4,AA4,AC4,AE4,AG4,AI4) -> 2
B5: CCM/006344/06 | D5: Cornez, Rapha‘lle | F5: 7 | H5: 7 | AJ5: =COUNTA(F5,H5,J5,L5,N5,P5,R5,T5,V5,X5,Z5,AB5,AD5,AF5,AH5) -> 2 | AK5: =SUM(G5,I5,K5,M5,O5,Q5,S5,U5,W5,Y5,AA5,AC5,AE5,AG5,AI5) -> 0
B6: CCM/570198/01 | D6: DERUMIER, Michèle | H6: 8 | AJ6: =COUNTA(F6,H6,J6,L6,N6,P6,R6,T6,V6,X6,Z6,AB6,AD6,AF6,AH6) -> 1 | AK6: =SUM(G6,I6,K6,M6,O6,Q6,S6,U6,W6,Y6,AA6,AC6,AE6,AG6,AI6) -> 0
B7: CCM/008798/08 | D7: GATTI, Léa | F7: 6 | G7: 1 | H7: 6 | I7: 2 | AJ7: =COUNTA(F7,H7,J7,L7,N7,P7,R7,T7,V7,X7,Z7,AB7,AD7,AF7,AH7) -> 2 | AK7: =SUM(G7,I7,K7,M7,O7,Q7,S7,U7,W7,Y7,AA7,AC7,AE7,AG7,AI7) -> 3
B8: CCM/014260/90 | D8: Konarski, Carline | F8: 1 | H8: 13 | AJ8: =COUNTA(F8,H8,J8,L8,N8,P8,R8,T8,V8,X8,Z8,AB8,AD8,AF8,AH8) -> 2 | AK8: =SUM(G8,I8,K8,M8,O8,Q8,S8,U8,W8,Y8,AA8,AC8,AE8,AG8,AI8) -> 0
B9: CCM/011225/11 | D9: Kunzi, Lucie | F9: 9 | H9: 9 | AJ9: =COUNTA(F9,H9,J9,L9,N9,P9,R9,T9,V9,X9,Z9,AB9,AD9,AF9,AH9) -> 2 | AK9: =SUM(G9,I9,K9,M9,O9,Q9,S9,U9,W9,Y9,AA9,AC9,AE9,AG9,AI9) -> 0
B10: CCM/015558/13 | D10: LECHIEN, Ambre | AJ10: =COUNTA(F10,H10,J10,L10,N10,P10,R10,T10,V10,X10,Z10,AB10,AD10,AF10,AH10) -> 0 | AK10: =SUM(G10,I10,K10,M10,O10,Q10,S10,U10,W10,Y10,AA10,AC10,AE10,AG10,AI10) -> 0
B11: CCM/012252/11 | D11: LECLERCQ, Eva | AJ11: =COUNTA(F11,H11,J11,L11,N11,P11,R11,T11,V11,X11,Z11,AB11,AD11,AF11,AH11) -> 0 | AK11: =SUM(G11,I11,K11,M11,O11,Q11,S11,U11,W11,Y11,AA11,AC11,AE11,AG11,AI11) -> 0
B12: CCM/527987/01 | D12: LEROY, Callista | F12: 10 | H12: 10 | AJ12: =COUNTA(F12,H12,J12,L12,N12,P12,R12,T12,V12,X12,Z12,AB12,AD12,AF12,AH12) -> 2 | AK12: =SUM(G12,I12,K12,M12,O12,Q12,S12,U12,W12,Y12,AA12,AC12,AE12,AG12,AI12) -> 0
B13: ENLWP/008793/09 | D13: MARECHAL, ELOISE | F13: 5 | G13: 1 | H13: 5 | I13: 1 | AJ13: =COUNTA(F13,H13,J13,L13,N13,P13,R13,T13,V13,X13,Z13,AB13,AD13,AF13,AH13) -> 2 | AK13: =SUM(G13,I13,K13,M13,O13,Q13,S13,U13,W13,Y13,AA13,AC13,AE13,AG13,AI13) -> 2
B14: CCM/015443/13 | D14: MASUY, Louise | AJ14: =COUNTA(F14,H14,J14,L14,N14,P14,R14,T14,V14,X14,Z14,AB14,AD14,AF14,AH14) -> 0 | AK14: =SUM(G14,I14,K14,M14,O14,Q14,S14,U14,W14,Y14,AA14,AC14,AE14,AG14,AI14) -> 0
B15: CCM/973686/02 | D15: PERCEVAL, Lea | H15: 12 | AJ15: =COUNTA(F15,H15,J15,L15,N15,P15,R15,T15,V15,X15,Z15,AB15,AD15,AF15,AH15) -> 1 | AK15: =SUM(G15,I15,K15,M15,O15,Q15,S15,U15,W15,Y15,AA15,AC15,AE15,AG15,AI15) -> 0
B16: CCM/015059/92 | D16: SARNO, Tara | F16: 4 | G16: 1 | AJ16: =COUNTA(F16,H16,J16,L16,N16,P16,R16,T16,V16,X16,Z16,AB16,AD16,AF16,AH16) -> 1 | AK16: =SUM(G16,I16,K16,M16,O16,Q16,S16,U16,W16,Y16,AA16,AC16,AE16,AG16,AI16) -> 1
B17: CCM/012390/92 | D17: VAN DEN NOORTGATE, Gael | H17: 1 | AJ17: =COUNTA(F17,H17,J17,L17,N17,P17,R17,T17,V17,X17,Z17,AB17,AD17,AF17,AH17) -> 1 | AK17: =SUM(G17,I17,K17,M17,O17,Q17,S17,U17,W17,Y17,AA17,AC17,AE17,AG17,AI17) -> 0
AJ18: =COUNTA(F18,H18,J18,L18,N18,P18,R18,T18,V18,X18,Z18,AB18,AD18,AF18,AH18) -> 0 | AK18: =SUM(G18,I18,K18,M18,O18,Q18,S18,U18,W18,Y18,AA18,AC18,AE18,AG18,AI18) -> 0
AJ19: =COUNTA(F19,H19,J19,L19,N19,P19,R19,T19,V19,X19,Z19,AB19,AD19,AF19,AH19) -> 0 | AK19: =SUM(G19,I19,K19,M19,O19,Q19,S19,U19,W19,Y19,AA19,AC19,AE19,AG19,AI19) -> 0
F20: =COUNTA(F3:F19) -> 9 | G20: =SUM(G3:G19) -> 5 | H20: =COUNTA(H3:H19) -> 11 | I20: =SUM(I3:I19) -> 4 | J20: =COUNTA(J3:J19) -> 0 | K20: =SUM(K3:K19) -> 0 | L20: =COUNTA(L3:L19) -> 0 | M20: =SUM(M3:M19) -> 0 | N20: =COUNTA(N3:N19) -> 0 | O20: =SUM(O3:O19) -> 0 | P20: =COUNTA(P3:P19) -> 0 | Q20: =SUM(Q3:Q19) -> 0 | R20: =COUNTA(R3:R19) -> 0 | S20: =SUM(S3:S19) -> 0 | T20: =COUNTA(T3:T19) -> 0 | U20: =SUM(U3:U19) -> 0 | V20: =COUNTA(V3:V19) -> 0 | W20: =SUM(W3:W19) -> 0 | X20: =COUNTA(X3:X19) -> 0 | Y20: =SUM(Y3:Y19) -> 0 | Z20: =COUNTA(Z3:Z19) -> 0 | AA20: =SUM(AA3:AA19) -> 0 | AB20: =COUNTA(AB3:AB19) -> 0 | AC20: =SUM(AC3:AC19) -> 0 | AD20: =COUNTA(AD3:AD19) -> 0 | AE20: =SUM(AE3:AE19) -> 0 | AF20: =COUNTA(AF3:AF19) -> 0 | AG20: =SUM(AG3:AG19) -> 0 | AH20: =COUNTA(AH3:AH19) -> 0 | AI20: =SUM(AI3:AI19) -> 0 | AK20: =SUM(AK3:AK19) -> 9

Sheet ROSC
A1: R Oostend SC | F1: 461 - 19-09-2026 | H1: 465 - 03-10-2026 | J1: 469 - 11-10-2026 | L1: 472 - 24-10-2026 | N1: 475 - 15-11-2026 | P1: 478 - 22-11-2026 | R1: 490 - 23-01-2027 | T1: 493 - 20-02-2027 | V1: 495 - 28-02-2027 | X1: 496 - 06-03-2027 | Z1: 500 - 13-03-2027 | AB1: 502 - 21-03-2027 | AD1: PO 1 | AF1: PO 2 | AH1: PO 3 | AJ1: Totaal W | AK1: Total G
F2: W | G2: G | H2: W | I2: G | J2: W | K2: G | L2: W | M2: G | N2: W | O2: G | P2: W | Q2: G | R2: W | S2: G | T2: W | U2: G | V2: W | W2: G | X2: W | Y2: G | Z2: W | AA2: G | AB2: W | AC2: G | AD2: W | AE2: G | AF2: W | AG2: G | AH2: W | AI2: G
B3: ROSC/21081/07 | D3: Aelvoet, Lotte | F3: 3 | AJ3: =COUNTA(F3,H3,J3,L3,N3,P3,R3,T3,V3,X3,Z3,AB3,AD3,AF3,AH3) -> 1 | AK3: =SUM(G3,I3,K3,M3,O3,Q3,S3,U3,W3,Y3,AA3,AC3,AE3,AG3,AI3) -> 0
B4: ROSC/21387/06 | D4: Campe, Zea | AJ4: =COUNTA(F4,H4,J4,L4,N4,P4,R4,T4,V4,X4,Z4,AD4,AF4,AH4) -> 0 | AK4: =SUM(G4,I4,K4,M4,O4,Q4,S4,U4,W4,Y4,AA4,AC4,AE4,AG4,AI4) -> 0
B5: ROSC/21400/12 | D5: Colle, Evi | J5: 3 | K5: 1 | AJ5: =COUNTA(F5,H5,J5,L5,N5,P5,R5,T5,V5,X5,Z5,AD5,AF5,AH5) -> 1 | AK5: =SUM(G5,I5,K5,M5,O5,Q5,S5,U5,W5,Y5,AA5,AC5,AE5,AG5,AI5) -> 1
B6: ROSC/21255/06 | D6: DELAERE, MYRTHE | F6: 12 | J6: 12 | AJ6: =COUNTA(F6,H6,J6,L6,N6,P6,R6,T6,V6,X6,Z6,AD6,AF6,AH6) -> 2 | AK6: =SUM(G6,I6,K6,M6,O6,Q6,S6,U6,W6,Y6,AA6,AC6,AE6,AG6,AI6) -> 0
B7: ROSC/21103/07 | D7: Depreitere, Hanne | F7: 10 | G7: 1 | J7: 10 | K7: 2 | AJ7: =COUNTA(F7,H7,J7,L7,N7,P7,R7,T7,V7,X7,Z7,AD7,AF7,AH7) -> 2 | AK7: =SUM(G7,I7,K7,M7,O7,Q7,S7,U7,W7,Y7,AA7,AC7,AE7,AG7,AI7) -> 3
B8: ROSC/21156/09 | D8: Depreitere, Julie | F8: 6 | G8: 2 | J8: 6 | K8: 5 | AJ8: =COUNTA(F8,H8,J8,L8,N8,P8,R8,T8,V8,X8,Z8,AD8,AF8,AH8) -> 2 | AK8: =SUM(G8,I8,K8,M8,O8,Q8,S8,U8,W8,Y8,AA8,AC8,AE8,AG8,AI8) -> 7
B9: ROSC/21106/07 | D9: Fossaert, Heleen | F9: 14 | G9: 4 | J9: 14 | K9: 6 | AJ9: =COUNTA(F9,H9,J9,L9,N9,P9,R9,T9,V9,X9,Z9,AD9,AF9,AH9) -> 2 | AK9: =SUM(G9,I9,K9,M9,O9,Q9,S9,U9,W9,Y9,AA9,AC9,AE9,AG9,AI9) -> 10
B10: ZNA/21250/08 | D10: Gunst, Dagmar | F10: 1 | J10: 1 | AJ10: =COUNTA(F10,H10,J10,L10,N10,P10,R10,T10,V10,X10,Z10,AD10,AF10,AH10) -> 2 | AK10: =SUM(G10,I10,K10,M10,O10,Q10,S10,U10,W10,Y10,AA10,AC10,AE10,AG10,AI10) -> 0
B11: ROSC/21380/12 | D11: Mahieu, Charlotte | AJ11: =COUNTA(F11,H11,J11,L11,N11,P11,R11,T11,V11,X11,Z11,AD11,AF11,AH11) -> 0 | AK11: =SUM(G11,I11,K11,M11,O11,Q11,S11,U11,W11,Y11,AA11,AC11,AE11,AG11,AI11) -> 0
B12: ROSC/20270/92 | D12: Masschaele, Annelien | F12: 9 | J12: 9 | AJ12: =COUNTA(F12,H12,J12,L12,N12,P12,R12,T12,V12,X12,Z12,AD12,AF12,AH12) -> 2 | AK12: =SUM(G12,I12,K12,M12,O12,Q12,S12,U12,W12,Y12,AA12,AC12,AE12,AG12,AI12) -> 0
B13: DZO/21168/10 | D13: Meyers, Claris | F13: 2 | J13: 2 | K13: 2 | AJ13: =COUNTA(F13,H13,J13,L13,N13,P13,R13,T13,V13,X13,Z13,AD13,AF13,AH13) -> 2 | AK13: =SUM(G13,I13,K13,M13,O13,Q13,S13,U13,W13,Y13,AA13,AC13,AE13,AG13,AI13) -> 2
B14: ROSC/21434/05 | D14: Mylle, Martha | F14: 11 | J14: 11 | K14: 1 | AJ14: =COUNTA(F14,H14,J14,L14,N14,P14,R14,T14,V14,X14,Z14,AD14,AF14,AH14) -> 2 | AK14: =SUM(G14,I14,K14,M14,O14,Q14,S14,U14,W14,Y14,AA14,AC14,AE14,AG14,AI14) -> 1
B15: ROSC/21043/05 | D15: Pannecoucke, Ella | F15: 5 | G15: 2 | J15: 5 | K15: 2 | AJ15: =COUNTA(F15,H15,J15,L15,N15,P15,R15,T15,V15,X15,Z15,AD15,AF15,AH15) -> 2 | AK15: =SUM(G15,I15,K15,M15,O15,Q15,S15,U15,W15,Y15,AA15,AC15,AE15,AG15,AI15) -> 4
B16: ROSC/21251/11 | D16: Pannecoucke, Myrthe | F16: 4 | G16: 2 | J16: 4 | K16: 2 | AJ16: =COUNTA(F16,H16,J16,L16,N16,P16,R16,T16,V16,X16,Z16,AD16,AF16,AH16) -> 2 | AK16: =SUM(G16,I16,K16,M16,O16,Q16,S16,U16,W16,Y16,AA16,AC16,AE16,AG16,AI16) -> 4
B17: ROSC/21295/11 | D17: Schoon, Margot | J17: 8 | K17: 3 | AJ17: =COUNTA(F17,H17,J17,L17,N17,P17,R17,T17,V17,X17,Z17,AD17,AF17,AH17) -> 1 | AK17: =SUM(G17,I17,K17,M17,O17,Q17,S17,U17,W17,Y17,AA17,AC17,AE17,AG17,AI17) -> 3
B18: ROSC/21284/11 | D18: Van Laer - Wallijn, Amber | F18: 7 | AJ18: =COUNTA(F18,H18,J18,L18,N18,P18,R18,T18,V18,X18,Z18,AD18,AF18,AH18) -> 1 | AK18: =SUM(G18,I18,K18,M18,O18,Q18,S18,U18,W18,Y18,AA18,AC18,AE18,AG18,AI18) -> 0
B19: ROSC/21130/08 | D19: Wallijn, Merlijne | F19: 8 | AJ19: =COUNTA(F19,H19,J19,L19,N19,P19,R19,T19,V19,X19,Z19,AD19,AF19,AH19) -> 1 | AK19: =SUM(G19,I19,K19,M19,O19,Q19,S19,U19,W19,Y19,AA19,AC19,AE19,AG19,AI19) -> 0
F20: =COUNTA(F3:F19) -> 13 | G20: =SUM(G3:G19) -> 11 | H20: =COUNTA(H3:H19) -> 0 | I20: =SUM(I3:I19) -> 0 | J20: =COUNTA(J3:J19) -> 12 | K20: =SUM(K3:K19) -> 24 | L20: =COUNTA(L3:L19) -> 0 | M20: =SUM(M3:M19) -> 0 | N20: =COUNTA(N3:N19) -> 0 | O20: =SUM(O3:O19) -> 0 | P20: =COUNTA(P3:P19) -> 0 | Q20: =SUM(Q3:Q19) -> 0 | R20: =COUNTA(R3:R19) -> 0 | S20: =SUM(S3:S19) -> 0 | T20: =COUNTA(T3:T19) -> 0 | U20: =SUM(U3:U19) -> 0 | V20: =COUNTA(V3:V19) -> 0 | W20: =SUM(W3:W19) -> 0 | X20: =COUNTA(X3:X19) -> 0 | Y20: =SUM(Y3:Y19) -> 0 | Z20: =COUNTA(Z3:Z19) -> 0 | AA20: =SUM(AA3:AA19) -> 0 | AB20: =COUNTA(AB3:AB19) -> 0 | AC20: =SUM(AC3:AC19) -> 0 | AD20: =COUNTA(AD3:AD19) -> 0 | AE20: =SUM(AE3:AE19) -> 0 | AF20: =COUNTA(AF3:AF19) -> 0 | AG20: =SUM(AG3:AG19) -> 0 | AH20: =COUNTA(AH3:AH19) -> 0 | AI20: =SUM(AI3:AI19) -> 0 | AK20: =SUM(AK3:AK19) -> 35
